BEGIN:VCALENDAR
VERSION:2.0
PRODID:-//ChamberMaster//Event Calendar 2.0//EN
METHOD:PUBLISH
X-PUBLISHED-TTL:P3D
REFRESH-INTERVAL:P3D
CALSCALE:GREGORIAN
BEGIN:VEVENT
DTSTART;VALUE=DATE:20190801
DTEND;VALUE=DATE:20190810
TRANSP:TRANSPARENT
X-MICROSOFT-CDO-ALLDAYEVENT:TRUE
SUMMARY:Chandelier Harp by Jen Lewis
DESCRIPTION:Create a musical symphony\, using your hands\, arms\, and legs! Designed for active\, collaborative\, community-based play\, Chandelier Harp is a large-scale interactive instrument played by passing your body through low voltage lasers that shine from the top of the walk-through structure to the ground. Much like plucking the string of a harp\, passing through the beams triggers custom circuitry and sensors to produce musical notes. Lasers are safe for audience members of all ages and abilities.
X-ALT-DESC;FMTTYPE=text/html:Create a musical symphony\, using your hands\, arms\, and legs! Designed for active\, collaborative\, community-based play\, Chandelier Harp is a large-scale interactive instrument played by passing your body through low voltage lasers that shine from the top of the walk-through structure to the ground. Much like plucking the string of a harp\, passing through the beams triggers custom circuitry and sensors to produce musical notes. Lasers are safe for audience members of all ages and abilities.
LOCATION:DSO Sosnick Courtyard\, 51 Parsons St.\, Detroit\, MI 48201 (between Cass Ave. and Woodward Ave. - Midtown Detroit) https://www.dso.org/sosnick
UID:e.2018.1297
SEQUENCE:3
DTSTAMP:20260419T225718Z
URL:https://members.westmihcc.org/events/details/chandelier-harp-by-jen-lewis-1297
END:VEVENT

END:VCALENDAR
