BEGIN:VCALENDAR
VERSION:2.0
PRODID:-//ChamberMaster//Event Calendar 2.0//EN
METHOD:PUBLISH
X-PUBLISHED-TTL:P3D
REFRESH-INTERVAL:P3D
CALSCALE:GREGORIAN
BEGIN:VEVENT
DTSTART:20190509T000000Z
DTEND:20190509T030000Z
X-MICROSOFT-CDO-ALLDAYEVENT:FALSE
SUMMARY:Cher: Here We Go Again Tour
DESCRIPTION:The Here We Go Again Tour is the seventh solo concert tour by singer-actress Cher in support of her twenty-sixth studio Album Dancing Queen. She will perform her classic hits\, as well as some fresh material from her up coming album Dancing Queen. Some of the songs confirmed as part of the set list are: "Believe\," "If I could Turn Back Time\," "Strong Enough\," "I Got You Babe\," "Gypsy\, Tramps & Thieves\, and "I Found Someone."
X-ALT-DESC;FMTTYPE=text/html:The Here We Go Again Tour is the seventh solo concert tour by singer-actress Cher in support of her twenty-sixth studio Album Dancing Queen. She will perform her classic hits\, as well as some fresh material from her up coming album Dancing Queen. Some of the songs confirmed as part of the set list are: &quot\;Believe\,&quot\; &quot\;If I could Turn Back Time\,&quot\; &quot\;Strong Enough\,&quot\; &quot\;I Got You Babe\,&quot\; &quot\;Gypsy\, Tramps &amp\; Thieves\, and &quot\;I Found Someone.&quot\;
LOCATION:Van Andel Arena
UID:e.2018.961
SEQUENCE:3
DTSTAMP:20260420T032741Z
URL:https://members.westmihcc.org/events/details/cher-here-we-go-again-tour-961
END:VEVENT

END:VCALENDAR
