BEGIN:VCALENDAR
VERSION:2.0
PRODID:-//ChamberMaster//Event Calendar 2.0//EN
METHOD:PUBLISH
X-PUBLISHED-TTL:P3D
REFRESH-INTERVAL:P3D
CALSCALE:GREGORIAN
BEGIN:VEVENT
DTSTART:20160818T210000Z
DTEND:20160818T230000Z
X-MICROSOFT-CDO-ALLDAYEVENT:FALSE
SUMMARY:ChoiceOne Bank Networking Meet and Greet
DESCRIPTION:ChoiceOne Bank is here to serve our members and community with their Mortgage Lending office located at 237 West Fulton Avenue.  \n\nCome and meet Carmen\, Gary and Troy and enjoy some appetizers and beverages.
X-ALT-DESC;FMTTYPE=text/html:ChoiceOne Bank is here to serve our members and community with their Mortgage Lending office located at 237 West Fulton Avenue. &nbsp\;<br />\nCome and meet Carmen\, Gary and Troy and enjoy some appetizers and beverages.
LOCATION:Hispanic Center of Western Michigan 1204 Grandville Avenue SW Grand Rapids\, MI 49503
UID:e.2018.456
SEQUENCE:3
DTSTAMP:20260426T000035Z
URL:https://members.westmihcc.org/events/details/choiceone-bank-networking-meet-and-greet-08-18-2016-456
END:VEVENT

END:VCALENDAR
