BEGIN:VCALENDAR
VERSION:2.0
PRODID:-//ChamberMaster//Event Calendar 2.0//EN
METHOD:PUBLISH
X-PUBLISHED-TTL:P3D
REFRESH-INTERVAL:P3D
CALSCALE:GREGORIAN
BEGIN:VEVENT
DTSTART:20160703T000000Z
DTEND:20160703T020000Z
X-MICROSOFT-CDO-ALLDAYEVENT:FALSE
SUMMARY:Chris Cornell: Higher Truth
DESCRIPTION:Multiple Grammy  Award-winning\, Golden Globe nominated singer and songwriter Chris Cornell today announced the second U.S. leg of his critically acclaimed Higher Truth World Tour. The tour will kick off on June 16 in Clearwater\, FL and stops in Grand Rapids at DeVos Performance Hall on Saturday\, July 2\, 2016 at 8:00 PM. Tickets go on sale to the general public on Friday\, March 11\, 2016 at 12:00 PM. Ticket prices are $50.50\, $60.50\, and $76.00 and will be available at the DeVos Place  and Van Andel Arena  box offices\, all Ticketmaster outlets\, online at Ticketmaster.com\, and by phone at 1-800-745-3000. A purchase limit of four (4) tickets will apply to each order\, and prices are subject to change. The first 20 rows will be will call pick up on the night of the show only. One dollar from each ticket sold will support the Chris and Vicky Cornell Foundation\, which is currently raising funds and partnering with charitable organizations to mobilize support for children facing problems including homelessness\, poverty\, abuse\, and neglect.
X-ALT-DESC;FMTTYPE=text/html:Multiple Grammy&reg\; Award-winning\, Golden Globe nominated singer and songwriter Chris Cornell today announced the second U.S. leg of his critically acclaimed Higher Truth World Tour. The tour will kick off on June 16 in Clearwater\, FL and stops in Grand Rapids at DeVos Performance Hall on Saturday\, July 2\, 2016 at 8:00 PM. Tickets go on sale to the general public on Friday\, March 11\, 2016 at 12:00 PM. Ticket prices are $50.50\, $60.50\, and $76.00 and will be available at the DeVos Place&reg\; and Van Andel Arena&reg\; box offices\, all Ticketmaster outlets\, online at Ticketmaster.com\, and by phone at 1-800-745-3000. A purchase limit of four (4) tickets will apply to each order\, and prices are subject to change. The first 20 rows will be will call pick up on the night of the show only. One dollar from each ticket sold will support the Chris and Vicky Cornell Foundation\, which is currently raising funds and partnering with charitable organizations to mobilize support for children facing problems including homelessness\, poverty\, abuse\, and neglect.
LOCATION:DeVos Performance Hall
UID:e.2018.360
SEQUENCE:3
DTSTAMP:20260426T011345Z
URL:https://members.westmihcc.org/events/details/chris-cornell-higher-truth-07-02-2016-360
END:VEVENT

END:VCALENDAR
