BEGIN:VCALENDAR
VERSION:2.0
PRODID:-//ChamberMaster//Event Calendar 2.0//EN
METHOD:PUBLISH
X-PUBLISHED-TTL:P3D
REFRESH-INTERVAL:P3D
CALSCALE:GREGORIAN
BEGIN:VEVENT
DTSTART:20180120T003000Z
DTEND:20180120T030000Z
X-MICROSOFT-CDO-ALLDAYEVENT:FALSE
SUMMARY:Chris Young: Losing Sleep World Tour
DESCRIPTION:Grammy nominated and chart topping country star Chris Young brings his Losing Sleep World Tour to Van Andel Arena on Friday\, January 19th at 7:30PM. Tickets go on sale Friday\, October 20\, 2017 @10 AM. Tickets may be purchased at the Van Andel Arena  and DeVos Place  convention center box offices\, charge by phone: 1.800.745.3000 or on-line at Ticketmaster.com. Ticket prices are subject to change.
X-ALT-DESC;FMTTYPE=text/html:Grammy nominated and chart topping country star Chris Young brings his Losing Sleep World Tour to Van Andel Arena on Friday\, January 19th at 7:30PM. Tickets go on sale Friday\, October 20\, 2017 @10 AM. Tickets may be purchased at the Van Andel Arena&reg\; and DeVos Place&reg\; convention center box offices\, charge by phone: 1.800.745.3000 or on-line at Ticketmaster.com. Ticket prices are subject to change.
LOCATION:Van Andel Arena
UID:e.2018.692
SEQUENCE:3
DTSTAMP:20260423T004032Z
URL:https://members.westmihcc.org/events/details/chris-young-losing-sleep-world-tour-692
END:VEVENT

END:VCALENDAR
