BEGIN:VCALENDAR
VERSION:2.0
PRODID:-//ChamberMaster//Event Calendar 2.0//EN
METHOD:PUBLISH
X-PUBLISHED-TTL:P3D
REFRESH-INTERVAL:P3D
CALSCALE:GREGORIAN
BEGIN:VEVENT
DTSTART:20191102T230000Z
DTEND:20191103T040000Z
X-MICROSOFT-CDO-ALLDAYEVENT:FALSE
SUMMARY:Christine D'Clario with Barak- Emanuel/Shekinah Tour
DESCRIPTION:Christine D'Clario / Barak   Emanuel / Shekinah Tour llega a distintas ciudades de Estados Unidos en oto o. Para info y boletos ve a christinedclario.com Christine D'Clario / Barak   Emanuel / Shekinah Tour 2019 llega a Grand Rapids\, MI! Acomp  anos el s bado dos de noviembre a las 7:00 PM. Una noche de adoraci n que no te puedes perder! Todos los asientos son reservados. Puertas para p blico general abren a las 6:00 PM. Varias opciones de boletos disponibles para todos. Boletos solamente online. All  nos vemos!                      - Christine D'Clario / Barak   Emanuel / Shekinah Tour is coming to cities across the USA in the Fall of 2019. christinedclario.com for info! Christine D'Clario / Barak   Emanuel / Shekinah Tour 2019 is coming to Grand Rapids\, MI! Join us on Saturday\, November 2 at 7:00 PM. A worship night you can't miss! all seating is reserved. Doors open at 6:00PM. Various ticket options for everyone. Online ticket sales only. See you there!
X-ALT-DESC;FMTTYPE=text/html:Christine D&rsquo\;Clario / Barak &ndash\; Emanuel / Shekinah Tour llega a distintas ciudades de Estados Unidos en oto&ntilde\;o. Para info y boletos ve a christinedclario.com Christine D&rsquo\;Clario / Barak &ndash\; Emanuel / Shekinah Tour 2019 llega a Grand Rapids\, MI! Acomp&aacute\;&ntilde\;anos el s&aacute\;bado dos de noviembre a las 7:00 PM. Una noche de adoraci&oacute\;n que no te puedes perder! Todos los asientos son reservados. Puertas para p&uacute\;blico general abren a las 6:00 PM. Varias opciones de boletos disponibles para todos. Boletos solamente online. All&aacute\; nos vemos! &mdash\;&mdash\;&mdash\;&mdash\;&mdash\;&mdash\;&mdash\;&mdash\;&mdash\;&mdash\;&mdash\;&mdash\;&mdash\;&mdash\;&mdash\;&mdash\;&mdash\;&mdash\;&mdash\;&mdash\;&mdash\;- Christine D&rsquo\;Clario / Barak &ndash\; Emanuel / Shekinah Tour is coming to cities across the USA in the Fall of 2019. christinedclario.com for info! Christine D&rsquo\;Clario / Barak &ndash\; Emanuel / Shekinah Tour 2019 is coming to Grand Rapids\, MI! Join us on Saturday\, November 2 at 7:00 PM. A worship night you can&rsquo\;t miss! all seating is reserved. Doors open at 6:00PM. Various ticket options for everyone. Online ticket sales only. See you there!
LOCATION:The DeltaPlex Arena and Conference Center
UID:e.2018.1336
SEQUENCE:3
DTSTAMP:20260419T183344Z
URL:https://members.westmihcc.org/events/details/christine-d-clario-with-barak-emanuel-shekinah-tour-1336
END:VEVENT

END:VCALENDAR
