BEGIN:VCALENDAR
VERSION:2.0
PRODID:-//ChamberMaster//Event Calendar 2.0//EN
METHOD:PUBLISH
X-PUBLISHED-TTL:P3D
REFRESH-INTERVAL:P3D
CALSCALE:GREGORIAN
BEGIN:VEVENT
DTSTART:20161215T003000Z
DTEND:20161218T170000Z
X-MICROSOFT-CDO-ALLDAYEVENT:FALSE
SUMMARY:Cirque Du Soleil: OVO
DESCRIPTION:OVO\, meaning "egg" in Portuguese\, is a headlong rush into a colorful ecosystem teeming with life\, where insects work\, eat\, crawl\, flutter\, play\, fight and look for love in a non-stop riot of energy and movement. When a mysterious egg appears in their midst\, the insects are awestruck and intensely curious about this iconic object that represents the enigma and cycles of their lives. It is love at first sight when a gawky\, quirky insect arrives in this bustling community and a fabulous ladybug catches his eye   and the feeling is mutual. The show is presented by Visa Signature . Tickets go on sale Friday\, September 9\, 2016 @ 10 AM. Tickets start at $32.50. Buy your tickets early! Ticket prices may fluctuate based on demand. Tickets may be purchased at the Van Andel Arena  and DeVos Place  convention center box offices\, charge by phone: 1.800.745.3000 or on-line at Ticketmaster.com. Ticket prices are subject to change.
X-ALT-DESC;FMTTYPE=text/html:OVO\, meaning &quot\;egg&quot\; in Portuguese\, is a headlong rush into a colorful ecosystem teeming with life\, where insects work\, eat\, crawl\, flutter\, play\, fight and look for love in a non-stop riot of energy and movement. When a mysterious egg appears in their midst\, the insects are awestruck and intensely curious about this iconic object that represents the enigma and cycles of their lives. It is love at first sight when a gawky\, quirky insect arrives in this bustling community and a fabulous ladybug catches his eye &ndash\; and the feeling is mutual. The show is presented by Visa Signature&reg\;. Tickets go on sale Friday\, September 9\, 2016 @ 10 AM. Tickets start at $32.50. Buy your tickets early! Ticket prices may fluctuate based on demand. Tickets may be purchased at the Van Andel Arena&reg\; and DeVos Place&reg\; convention center box offices\, charge by phone: 1.800.745.3000 or on-line at Ticketmaster.com. Ticket prices are subject to change.
LOCATION:Van Andel Arena
UID:e.2018.481
SEQUENCE:3
DTSTAMP:20260425T183021Z
URL:https://members.westmihcc.org/events/details/cirque-du-soleil-ovo-481
END:VEVENT

END:VCALENDAR
