BEGIN:VCALENDAR
VERSION:2.0
PRODID:-//ChamberMaster//Event Calendar 2.0//EN
METHOD:PUBLISH
X-PUBLISHED-TTL:P3D
REFRESH-INTERVAL:P3D
CALSCALE:GREGORIAN
BEGIN:VEVENT
DTSTART:20160916T120000Z
DTEND:20160916T160000Z
X-MICROSOFT-CDO-ALLDAYEVENT:FALSE
SUMMARY:Community Literacy Summit Talent Challenge: The Hidden Issue of Literacy
DESCRIPTION:The ability for employees to learn new skills and be more productive in the work environment is significantly reduced with a low literacy level. Join the Literacy Center of West Michigan at the 5th annual Community Literacy Summit to learn how to assess your workforce to ensure success for them and for your company. We are pleased to partner with Grand Rapids Community College to offer 0.4 hrs. of CEUs through the International Association for Continuing Education and Training (IACET) and is authorized to issue the IACET CEUs that count toward SHRM and SCECH hours at no additional cost. Anyone receiving CEUs are required to attend the event from 8am-12pm and fill out a survey about the Summit and the break-out sessions.
X-ALT-DESC;FMTTYPE=text/html:<span style="font-family:calibri\,sans-serif"><span style="font-size:11.0pt">The ability for employees to learn new skills and be more productive in the work environment is significantly reduced with a low literacy level. Join the Literacy Center of West Michigan at the 5<sup>th</sup> annual Community Literacy Summit to learn how to assess your workforce to ensure success for them and for your company. We are pleased to partner with Grand Rapids Community College to offer 0.4 hrs. of CEUs through the </span></span><strong><span style="color:#111111"><span style="font-family:helvetica\,sans-serif"><span style="font-size:10.5pt"><a href="http://www.iacet.org/"><span style="color:#752052">International Association for Continuing Education and Training</span></a></span></span></span></strong>&nbsp\;<span style="font-family:calibri\,sans-serif"><span style="font-size:11.0pt">(IACET) and is authorized to issue the IACET CEUs that count toward SHRM and SCECH hours at no additional cost. Anyone receiving CEUs are required to attend the event&nbsp\;from&nbsp\;8am-12pm and fill out a survey about the Summit and the break-out sessions.</span></span>
LOCATION:Grand Rapids Community College Leslie E. Tassell M-TEC 622 Godfrey Ave. SW
UID:e.2018.461
SEQUENCE:3
DTSTAMP:20260425T230029Z
URL:https://members.westmihcc.org/events/details/community-literacy-summit-talent-challenge-the-hidden-issue-of-literacy-461
END:VEVENT

END:VCALENDAR
