BEGIN:VCALENDAR
VERSION:2.0
PRODID:-//ChamberMaster//Event Calendar 2.0//EN
METHOD:PUBLISH
X-PUBLISHED-TTL:P3D
REFRESH-INTERVAL:P3D
CALSCALE:GREGORIAN
BEGIN:VEVENT
DTSTART:20190221T130000Z
DTEND:20190221T143000Z
X-MICROSOFT-CDO-ALLDAYEVENT:FALSE
SUMMARY:Conecta Membership Monthly Meeting
DESCRIPTION:Conecta membership meetings provide members the opportunity to expand their contact base. Many of the networking events are co-hosted by sponsors and other organizations to bring new contacts and relationships to attendees. Typically\, breakfast will be provided\, the hosting location will give a small presentation\, then networking takes focus. As a reminder\, these meetings are hosted in different locations every month.
X-ALT-DESC;FMTTYPE=text/html:<span style="font-size:14px\;"><span style="color: rgb(51\, 51\, 51)\; font-family: &quot\;Helvetica Neue&quot\;\, Helvetica\, Arial\, sans-serif\; background-color: rgb(255\, 255\, 255)\;">Conecta membership meetings&nbsp\;provide members the opportunity to expand their contact base. Many of the networking events are co-hosted by sponsors and other organizations to bring new contacts and relationships to attendees. Typically\, breakfast will be provided\, the hosting location will give a small presentation\, then networking takes focus. As a reminder\, these meetings are hosted in different locations every month.</span></span>
LOCATION:Bridge St. Market 405 Seward Ave NW\, Grand Rapids\, MI 49504 Free covered parking is available on the first level of the parking ramp on Seward Avenue\, which is connected to Bridge Street.
UID:e.2018.1038
SEQUENCE:3
DTSTAMP:20260420T080026Z
URL:https://members.westmihcc.org/events/details/conecta-membership-monthly-meeting-1038
END:VEVENT

END:VCALENDAR
