BEGIN:VCALENDAR
VERSION:2.0
PRODID:-//ChamberMaster//Event Calendar 2.0//EN
METHOD:PUBLISH
X-PUBLISHED-TTL:P3D
REFRESH-INTERVAL:P3D
CALSCALE:GREGORIAN
BEGIN:VEVENT
DTSTART:20190919T120000Z
DTEND:20190919T133000Z
X-MICROSOFT-CDO-ALLDAYEVENT:FALSE
SUMMARY:Conecta Membership Monthly Meeting
DESCRIPTION:Conecta membership meetings provide members the opportunity to expand their contact base. Many of the networking events are co-hosted by sponsors and other organizations to bring new contacts and relationships to attendees. Typically\, breakfast will be provided\, the hosting location will give a small presentation\, then networking takes focus. This month's meeting includes a private tour of Gerald R. Ford Internation Airport!\n\n\n\nAs a reminder\, these meetings are hosted in different locations every month.
X-ALT-DESC;FMTTYPE=text/html:<span style="font-size:14px\;"><span style="color: rgb(51\, 51\, 51)\; font-family: &quot\;Helvetica Neue&quot\;\, Helvetica\, Arial\, sans-serif\; background-color: rgb(255\, 255\, 255)\;">Conecta membership meetings&nbsp\;provide members the opportunity to expand their contact base. Many of the networking events are co-hosted by sponsors and other organizations to bring new contacts and relationships to attendees. Typically\, breakfast will be provided\, the hosting location will give a small presentation\, then networking takes focus. This month&#39\;s meeting includes a private tour of Gerald R. Ford Internation Airport!<br />\n<br />\nAs a reminder\, these meetings are hosted in different locations every month.</span></span>
LOCATION:Gerald R. Ford International Airport 5500 44th St SE\, Grand Rapids\, MI 49512
UID:e.2018.1048
SEQUENCE:3
DTSTAMP:20260419T212225Z
URL:https://members.westmihcc.org/events/details/conecta-membership-monthly-meeting-1048
END:VEVENT

END:VCALENDAR
