BEGIN:VCALENDAR
VERSION:2.0
PRODID:-//ChamberMaster//Event Calendar 2.0//EN
METHOD:PUBLISH
X-PUBLISHED-TTL:P3D
REFRESH-INTERVAL:P3D
CALSCALE:GREGORIAN
BEGIN:VEVENT
DTSTART:20171019T120000Z
DTEND:20171019T133000Z
X-MICROSOFT-CDO-ALLDAYEVENT:FALSE
SUMMARY:Conecta Membership Monthly Meeting
DESCRIPTION:One of the many benefits our membership offers is the monthly membership meetings in which members are able to meet the Hispanic Chamber staff\, Board of Directors and other members. The objective of membership meetings is to interact with our business community leaders\, exchange business cards and create new business opportunities to diversify their workforce\, supplier base\, and increase their involvement within the Hispanic Chamber network.
X-ALT-DESC;FMTTYPE=text/html:<span style="color: rgb(0\, 0\, 0)\; font-family: verdana\; font-size: 12px\;">One of the many benefits our membership offers is the monthly membership meetings in which members are able to meet the Hispanic Chamber staff\, Board of Directors and other members. The objective of membership meetings is to interact with our business community leaders\, exchange business cards and create new business opportunities to diversify their workforce\, supplier base\, and increase their involvement within the Hispanic Chamber network.</span>
LOCATION:Location varies every month. If you're interested in hosting a Conecta Membership Meeting\, contact the WMHCC at info@westmihcc.org VARNUM Floor 17th 333 Bridge St NW\, Grand Rapids\, MI 49501 Parking will be validated
UID:e.2018.688
SEQUENCE:3
DTSTAMP:20260423T050850Z
URL:https://members.westmihcc.org/events/details/conecta-membership-monthly-meeting-688
END:VEVENT

END:VCALENDAR
