BEGIN:VCALENDAR
VERSION:2.0
PRODID:-//ChamberMaster//Event Calendar 2.0//EN
METHOD:PUBLISH
X-PUBLISHED-TTL:P3D
REFRESH-INTERVAL:P3D
CALSCALE:GREGORIAN
BEGIN:VEVENT
DTSTART:20171116T130000Z
DTEND:20171116T143000Z
X-MICROSOFT-CDO-ALLDAYEVENT:FALSE
SUMMARY:Conecta Membership Monthly Meeting
DESCRIPTION:One of the many benefits our membership offers is the monthly membership meetings in which members are able to meet the Hispanic Chamber staff\, Board of Directors and other members. The objective of membership meetings is to interact with our business community leaders\, exchange business cards and create new business opportunities to diversify their workforce\, supplier base\, and increase their involvement within the Hispanic Chamber network.
X-ALT-DESC;FMTTYPE=text/html:<span style="color: rgb(0\, 0\, 0)\; font-family: verdana\; font-size: 12px\;">One of the many benefits our membership offers is the monthly membership meetings in which members are able to meet the Hispanic Chamber staff\, Board of Directors and other members. The objective of membership meetings is to interact with our business community leaders\, exchange business cards and create new business opportunities to diversify their workforce\, supplier base\, and increase their involvement within the Hispanic Chamber network.</span>
LOCATION:Location varies every month. If you're interested in hosting a Conecta Membership Meeting\, contact the WMHCC at info@westmihcc.org Diocese of Grand Rapids Cathedral Square 360 Division Avenue S. Grand Rapids\, MI 2nd Floor\, Conference Center Northeast Corner of Division and Wealthy. Parking Possibilities: Diocese parking garage entrance \, on Cathedral Square Wealthy Street (east of division). Some parking available in front of the building (on 360 Division).
UID:e.2018.709
SEQUENCE:3
DTSTAMP:20260423T035100Z
URL:https://members.westmihcc.org/events/details/conecta-membership-monthly-meeting-709
END:VEVENT

END:VCALENDAR
