BEGIN:VCALENDAR
VERSION:2.0
PRODID:-//ChamberMaster//Event Calendar 2.0//EN
METHOD:PUBLISH
X-PUBLISHED-TTL:P3D
REFRESH-INTERVAL:P3D
CALSCALE:GREGORIAN
BEGIN:VEVENT
DTSTART:20180517T120000Z
DTEND:20180517T133000Z
X-MICROSOFT-CDO-ALLDAYEVENT:FALSE
SUMMARY:Conecta Membership Monthly Meeting
DESCRIPTION:Conecta membership meetings provide members with the opportunity to expand their contact base. Many of the networking events are co-hosted by sponsors and other organizations to bring new contacts and relationships to attendees. Typically\, breakfast will be provided\, the hosting location will give a small presentation\, then networking takes focus. As a reminder\, these meetings are hosted in different locations every month.
X-ALT-DESC;FMTTYPE=text/html:<span style="font-size:14px\;"><span style="font-family:arial\;"><span style="color: rgb(51\, 51\, 51)\; background-color: rgb(255\, 255\, 255)\;">Conecta membership meetings&nbsp\;provide members with the opportunity to expand their contact base. Many of the networking events are co-hosted by sponsors and other organizations to bring new contacts and relationships to attendees. Typically\, breakfast will be provided\, the hosting location will give a small presentation\, then networking takes focus. As a reminder\, these meetings are hosted in different locations every month.</span></span></span>
LOCATION:Spectrum Health Healthier Communities 665 Seward Ave NW #110\, Grand Rapids\, MI 49504 Classroom 210
UID:e.2018.765
SEQUENCE:3
DTSTAMP:20260422T183726Z
URL:https://members.westmihcc.org/events/details/conecta-membership-monthly-meeting-765
END:VEVENT

END:VCALENDAR
