BEGIN:VCALENDAR
VERSION:2.0
PRODID:-//ChamberMaster//Event Calendar 2.0//EN
METHOD:PUBLISH
X-PUBLISHED-TTL:P3D
REFRESH-INTERVAL:P3D
CALSCALE:GREGORIAN
BEGIN:VEVENT
DTSTART:20180920T120000Z
DTEND:20180920T133000Z
X-MICROSOFT-CDO-ALLDAYEVENT:FALSE
SUMMARY:Conecta Membership Monthly Meeting
DESCRIPTION:Conecta membership meetings provide members with the opportunity to expand their contact base. Many of the networking events are co-hosted by sponsors and other organizations to bring new contacts and relationships to attendees. Typically\, breakfast will be provided\, the hosting location will give a small presentation\, then networking takes focus. As a reminder\, these meetings are hosted in different locations every month.
X-ALT-DESC;FMTTYPE=text/html:<span style="color: rgb(51\, 51\, 51)\; font-family: &quot\;Helvetica Neue&quot\;\, Helvetica\, Arial\, sans-serif\; font-size: 16px\; background-color: rgb(255\, 255\, 255)\;">Conecta membership meetings&nbsp\;provide members with the opportunity to expand their contact base. Many of the networking events are co-hosted by sponsors and other organizations to bring new contacts and relationships to attendees. Typically\, breakfast will be provided\, the hosting location will give a small presentation\, then networking takes focus. As a reminder\, these meetings are hosted in different locations every month.</span>
LOCATION:Gerald R. Ford Internation Airport Address: 5500 44th St SE\, Grand Rapids\, MI 49512 Guests will want to park in short term parking area adjacent to the terminal building. Bring in your parking ticket for validation. We will be meeting in the International Room\, which is located in the Grand Hall. It is located across from the consolidated check point- between the restroom\, closest to B concourse\, and the Police Office.
UID:e.2018.769
SEQUENCE:3
DTSTAMP:20260422T144331Z
URL:https://members.westmihcc.org/events/details/conecta-membership-monthly-meeting-769
END:VEVENT

END:VCALENDAR
