BEGIN:VCALENDAR
VERSION:2.0
PRODID:-//ChamberMaster//Event Calendar 2.0//EN
METHOD:PUBLISH
X-PUBLISHED-TTL:P3D
REFRESH-INTERVAL:P3D
CALSCALE:GREGORIAN
BEGIN:VEVENT
DTSTART:20170921T120000Z
DTEND:20170922T013000Z
X-MICROSOFT-CDO-ALLDAYEVENT:FALSE
SUMMARY:Conecta Membership Monthly Meetings
DESCRIPTION:One of the many benefits our membership offers is the monthly membership meetings in which members are able to meet the Hispanic Chamber staff\, Board of Directors and other members. The objective of membership meetings is to interact with our business community leaders\, exchange business cards and create new business opportunities to diversify their workforce\, supplier base\, and increase their involvement within the Hispanic Chamber network.
X-ALT-DESC;FMTTYPE=text/html:<span style="color: rgb(0\, 0\, 0)\; font-family: verdana\; font-size: 12px\;">One of the many benefits our membership offers is the monthly membership meetings in which members are able to meet the Hispanic Chamber staff\, Board of Directors and other members. The objective of membership meetings is to interact with our business community leaders\, exchange business cards and create new business opportunities to diversify their workforce\, supplier base\, and increase their involvement within the Hispanic Chamber network.</span>
LOCATION:Location varies every month. If you're interested in hosting a Conecta Membership Meeting\, contact the WMHCC at info@westmihcc.org DeVos Place Convention Center 303 Monroe Ave NW\, Grand Rapids\, MI 49503 Parking is available in the parking ramp located below DeVos Place\, with entrances on Lyon Street and Michigan Street. You may take a parking ticket when you enter the ramp\, and they will provide parking validation at the meeting. Feel free to park as close to Rows D\, E\, F as possible for the quickest access to the room. You may use the elevators coming from the parking ramp to the "Street Level" and follow signage for "Grand Gallery" and "Grand Gallery Meeting Rooms."
UID:e.2018.665
SEQUENCE:3
DTSTAMP:20260423T063322Z
URL:https://members.westmihcc.org/events/details/conecta-membership-monthly-meetings-665
END:VEVENT

END:VCALENDAR
