BEGIN:VCALENDAR
VERSION:2.0
PRODID:-//ChamberMaster//Event Calendar 2.0//EN
METHOD:PUBLISH
X-PUBLISHED-TTL:P3D
REFRESH-INTERVAL:P3D
CALSCALE:GREGORIAN
BEGIN:VEVENT
DTSTART:20170126T230000Z
DTEND:20170127T020000Z
X-MICROSOFT-CDO-ALLDAYEVENT:FALSE
SUMMARY:Continuity - Begin with the End in Mind Business Planning
DESCRIPTION:This workshop revolves around business planning\, personal leadership\, and personal management - and the differences between each. Also covered will be business continuation strategies\, such as buy-sell arrangements\, key person insurance\, and looking at your business as an asset. If you are just starting\, or have already started your business\, you will find this workshop to be educational\, practical and informative. Our goal is to provide you with tools that you can implement right away. If you have been in business for a while now\, this will be a good refresher\, and perhaps get you back on track to working more ON your business than IN it. About the facilitator: Chet Spence is a Financial Advisor with FourSquare Financial Group in Grand Rapids\, MI. He has over 20 years of working closely with business owners and individuals to help them achieve their goals. He is a Chartered Financial Consultant (ChFC) and a Certified Life Underwriter (CLU).
X-ALT-DESC;FMTTYPE=text/html:This workshop revolves around business planning\, personal leadership\, and personal management - and the differences between each. Also covered will be business continuation strategies\, such as buy-sell arrangements\, key person insurance\, and looking at your business as an asset. If you are just starting\, or have already started your business\, you will find this workshop to be educational\, practical and informative. Our goal is to provide you with tools that you can implement right away. If you have been in business for a while now\, this will be a good refresher\, and perhaps get you back on track to working more ON your business than IN it. About the facilitator: Chet Spence is a Financial Advisor with FourSquare Financial Group in Grand Rapids\, MI. He has over 20 years of working closely with business owners and individuals to help them achieve their goals. He is a Chartered Financial Consultant (ChFC) and a Certified Life Underwriter (CLU).
LOCATION:Grand Rapids Opportunities for Women (GROW) 25 Sheldon Blvd\, Suite 210 Grand Rapids\, MI 49503
UID:e.2018.529
SEQUENCE:3
DTSTAMP:20260425T171710Z
URL:https://members.westmihcc.org/events/details/continuity-begin-with-the-end-in-mind-business-planning-529
END:VEVENT

END:VCALENDAR
