BEGIN:VCALENDAR
VERSION:2.0
PRODID:-//ChamberMaster//Event Calendar 2.0//EN
METHOD:PUBLISH
X-PUBLISHED-TTL:P3D
REFRESH-INTERVAL:P3D
CALSCALE:GREGORIAN
BEGIN:VEVENT
DTSTART:20200402T160000Z
DTEND:20200402T170000Z
X-MICROSOFT-CDO-ALLDAYEVENT:FALSE
SUMMARY:Conéctate: Cambios a la aplicación del SBA
DESCRIPTION:Hay nueva informaci n cada d a sobre las ayudas disponibles para los due os de negocio. Aprenda sobre los cambios que se han hecho al proceso de aplicaci n para los prestamos del Small Business Administration. \n\n\n\nFecha y hora del taller: 2 de abril a las 12:00pm \n\n\n\nPara conectarse a la llamada use una de las siguientes opciones:\n\n\n\n1. Para conectarse por video usando su computadora\, tableta\, o telefono: https://global.gotomeeting.com/join/537428973\n\n\n\n2. Para conectarse por tel fono: Marque el +1 (571) 317-3122\, el c digo de acceso es 537-428-973
X-ALT-DESC;FMTTYPE=text/html:Hay nueva informaci&oacute\;n cada d&iacute\;a sobre las ayudas disponibles para los due&ntilde\;os de negocio. Aprenda sobre los cambios que se han hecho al proceso de aplicaci&oacute\;n para los prestamos del Small Business Administration.&nbsp\;<br />\n<br />\n<strong>Fecha y hora del taller:</strong> 2 de abril a las 12:00pm&nbsp\;<br />\n<br />\n<strong>Para conectarse a la llamada</strong> use una de las siguientes opciones:<br />\n<br />\n1. Para conectarse <strong>por video</strong> usando su computadora\, tableta\, o telefono: https://global.gotomeeting.com/join/537428973<br />\n<br />\n2. Para conectarse <strong>por tel&eacute\;fono: </strong>Marque el +1 (571) 317-3122\, el c&oacute\;digo de acceso es 537-428-973<br />\n
LOCATION:Para conectarse a la llamada use una de las siguientes opciones: 1. Para conectarse por video usando su computadora\, tableta\, o telefono: https://global.gotomeeting.com/join/537428973 2. Para conectarse por tel fono: Marque el +1 (571) 317-3122\, el c digo de acceso es 537-428-973
UID:e.2018.1501
SEQUENCE:3
DTSTAMP:20260419T123514Z
URL:https://members.westmihcc.org/events/details/con&#233;ctate-cambios-a-la-aplicaci&#243;n-del-sba-1501
END:VEVENT

END:VCALENDAR
