BEGIN:VCALENDAR
VERSION:2.0
PRODID:-//ChamberMaster//Event Calendar 2.0//EN
METHOD:PUBLISH
X-PUBLISHED-TTL:P3D
REFRESH-INTERVAL:P3D
CALSCALE:GREGORIAN
BEGIN:VEVENT
DTSTART:20180823T180000Z
DTEND:20180823T210000Z
X-MICROSOFT-CDO-ALLDAYEVENT:FALSE
SUMMARY:Crowdfunding: Raising Capital for Your Business
DESCRIPTION:Crowdfunding is a way of raising capital by asking a large number of individuals each for a small amount of money to finance a new business venture. Crowdfunding has grown in recognition in providing easy access to vast networks of people through the internet and connecting entrepreneurs and potential investors.
X-ALT-DESC;FMTTYPE=text/html:Crowdfunding is a way of raising capital by asking a large number of individuals each for a small amount of money to finance a new business venture. Crowdfunding has grown in recognition in providing easy access to vast networks of people through the internet and connecting entrepreneurs and potential investors.
LOCATION:
UID:e.2018.909
SEQUENCE:3
DTSTAMP:20260422T145339Z
URL:https://members.westmihcc.org/events/details/crowdfunding-raising-capital-for-your-business-909
END:VEVENT

END:VCALENDAR
