BEGIN:VCALENDAR
VERSION:2.0
PRODID:-//ChamberMaster//Event Calendar 2.0//EN
METHOD:PUBLISH
X-PUBLISHED-TTL:P3D
REFRESH-INTERVAL:P3D
CALSCALE:GREGORIAN
BEGIN:VEVENT
DTSTART:20191026T000000Z
DTEND:20191026T030000Z
X-MICROSOFT-CDO-ALLDAYEVENT:FALSE
SUMMARY:CUBE Poetry Slam – UNPLUGGED
DESCRIPTION:Spoken word artist?La Shaun Phoenix Moore?hosts an evening featuring Detroit's finest poets and?DJ Stacye J\, plus an acoustic set by R&B?singer and WDET's Tiny Desk Fan Favorite Johnyce.
X-ALT-DESC;FMTTYPE=text/html:Spoken word artist?La Shaun Phoenix Moore?hosts an evening featuring Detroit&rsquo\;s finest poets and?DJ Stacye J\, plus an acoustic set by R&amp\;B?singer and WDET&rsquo\;s Tiny Desk Fan Favorite Johnyce.
LOCATION:The CUBE 3711 Woodward Avenue Detroit\, MI 48201
UID:e.2018.1349
SEQUENCE:3
DTSTAMP:20260419T212226Z
URL:https://members.westmihcc.org/events/details/cube-poetry-slam-unplugged-1349
END:VEVENT

END:VCALENDAR
