BEGIN:VCALENDAR
VERSION:2.0
PRODID:-//ChamberMaster//Event Calendar 2.0//EN
METHOD:PUBLISH
X-PUBLISHED-TTL:P3D
REFRESH-INTERVAL:P3D
CALSCALE:GREGORIAN
BEGIN:VEVENT
DTSTART:20200122T170000Z
DTEND:20200122T183000Z
X-MICROSOFT-CDO-ALLDAYEVENT:FALSE
SUMMARY:Cybersecurity and Why It's Important for Your Business!
DESCRIPTION:You'll Learn:   Cybersecurity concepts relevant to small business   Why these topics matter to your business   Best practices you can implement in your business operations to improve cybersecurity Presented by: Scott Taber\, MI-SBDC Cybersecurity Awareness Program Specialist Fee: $15.00 To register\, go online at https://clients.sbdcmichigan.org/workshop.aspx?ekey=70400001 or call SBDC West Michigan at (616)331-7370.
X-ALT-DESC;FMTTYPE=text/html:You&#39\;ll Learn: &bull\; Cybersecurity concepts relevant to small business &bull\; Why these topics matter to your business &bull\; Best practices you can implement in your business operations to improve cybersecurity Presented by: Scott Taber\, MI-SBDC Cybersecurity Awareness Program Specialist Fee: $15.00 To register\, go online at https://clients.sbdcmichigan.org/workshop.aspx?ekey=70400001 or call SBDC West Michigan at (616)331-7370.
LOCATION:GVSU Muskegon Innovation Hub Room 200 200 Viridian Drive Muskegon\, MI 49440
UID:e.2018.1410
SEQUENCE:3
DTSTAMP:20260419T153811Z
URL:https://members.westmihcc.org/events/details/cybersecurity-and-why-it-s-important-for-your-business-1410
END:VEVENT

END:VCALENDAR
