BEGIN:VCALENDAR
VERSION:2.0
PRODID:-//ChamberMaster//Event Calendar 2.0//EN
METHOD:PUBLISH
X-PUBLISHED-TTL:P3D
REFRESH-INTERVAL:P3D
CALSCALE:GREGORIAN
BEGIN:VEVENT
DTSTART:20191031T140000Z
DTEND:20191031T160000Z
X-MICROSOFT-CDO-ALLDAYEVENT:FALSE
SUMMARY:Cybersecurity Training
DESCRIPTION:What is cybersecurity and why does it matter to you and your small business? What can you do to make your cyber presence more secure? Join us for this informative workshop as we discuss what cybersecurity is and the importance it plays in the operation of your business. This workshop is designed for those who are looking to learn more about the general concepts of cybersecurity\, while also offering information for those looking to refresh what they already know. You will leave the workshop with: 1. A general understanding of why cybersecurity concepts 2. Explanations as to why these topics matter for your business 3. Key steps you can implement in your business operations to make Presented by: Scott Taber\, Michigan SBDC Cybersecurity Awareness Program Specialist Fee: No Cost To register\, go online at https://clients.sbdcmichigan.org/workshop.aspx?ekey=70390212 or call SBDC West Michigan at (616)331-7370.
X-ALT-DESC;FMTTYPE=text/html:What is cybersecurity and why does it matter to you and your small business? What can you do to make your cyber presence more secure? Join us for this informative workshop as we discuss what cybersecurity is and the importance it plays in the operation of your business. This workshop is designed for those who are looking to learn more about the general concepts of cybersecurity\, while also offering information for those looking to refresh what they already know. You will leave the workshop with: 1. A general understanding of why cybersecurity concepts 2. Explanations as to why these topics matter for your business 3. Key steps you can implement in your business operations to make Presented by: Scott Taber\, Michigan SBDC Cybersecurity Awareness Program Specialist Fee: No Cost To register\, go online at https://clients.sbdcmichigan.org/workshop.aspx?ekey=70390212 or call SBDC West Michigan at (616)331-7370.
LOCATION:GVSU Bicycle Factory Room 340 201 Front Ave Grand Rapids\, MI 49504
UID:e.2018.1374
SEQUENCE:3
DTSTAMP:20260419T200554Z
URL:https://members.westmihcc.org/events/details/cybersecurity-training-1374
END:VEVENT

END:VCALENDAR
