BEGIN:VCALENDAR
VERSION:2.0
PRODID:-//ChamberMaster//Event Calendar 2.0//EN
METHOD:PUBLISH
X-PUBLISHED-TTL:P3D
REFRESH-INTERVAL:P3D
CALSCALE:GREGORIAN
BEGIN:VEVENT
DTSTART:20190114T233000Z
DTEND:20190115T013000Z
X-MICROSOFT-CDO-ALLDAYEVENT:FALSE
SUMMARY:Daniel Tiger’s Neighborhood LIVE
DESCRIPTION:Daniel Tiger's Neighborhood LIVE brings King for a Day to DeVos Performance Hall on Monday\, January 14\, 2019 at 6:30PM. The hugely popular Daniel Tiger's Neighborhood LIVE!\, based on the #1 PBS KIDS TV series\, has delighted live audiences on stages across the country. Now\, in its third year of touring\, your favorite characters are hopping back on board Trolley and coming to your town with Daniel Tiger's Neighborhood Live: King for a Day! Daniel and all of his friends invite you for a brand-new adventure in Neighborhood of Make-Believe where Daniel learns just what it takes to be king. The beloved characters come alive on stage to captivate you with new songs to sing along to\, magical moments\, and SURPRISE guests along the way! It's an event filled with tigertastic fun\, teaching the valuable lessons of kindness\, helping others\, and being a friend. Don't miss Daniel Tiger's Neighborhood LIVE: King for a Day... a royally great time!
X-ALT-DESC;FMTTYPE=text/html:Daniel Tiger&#39\;s Neighborhood LIVE brings King for a Day to DeVos Performance Hall on Monday\, January 14\, 2019 at 6:30PM. The hugely popular Daniel Tiger&#39\;s Neighborhood LIVE!\, based on the #1 PBS KIDS TV series\, has delighted live audiences on stages across the country. Now\, in its third year of touring\, your favorite characters are hopping back on board Trolley and coming to your town with Daniel Tiger&#39\;s Neighborhood Live: King for a Day! Daniel and all of his friends invite you for a brand-new adventure in Neighborhood of Make-Believe where Daniel learns just what it takes to be king. The beloved characters come alive on stage to captivate you with new songs to sing along to\, magical moments\, and SURPRISE guests along the way! It&#39\;s an event filled with tigertastic fun\, teaching the valuable lessons of kindness\, helping others\, and being a friend. Don&#39\;t miss Daniel Tiger&#39\;s Neighborhood LIVE: King for a Day... a royally great time!
LOCATION:DeVos Performance Hall
UID:e.2018.850
SEQUENCE:3
DTSTAMP:20260422T084825Z
URL:https://members.westmihcc.org/events/details/daniel-tiger-s-neighborhood-live-850
END:VEVENT

END:VCALENDAR
