BEGIN:VCALENDAR
VERSION:2.0
PRODID:-//ChamberMaster//Event Calendar 2.0//EN
METHOD:PUBLISH
X-PUBLISHED-TTL:P3D
REFRESH-INTERVAL:P3D
CALSCALE:GREGORIAN
BEGIN:VEVENT
DTSTART:20180715T230000Z
DTEND:20180716T030000Z
X-MICROSOFT-CDO-ALLDAYEVENT:FALSE
SUMMARY:Daryl Hall & John Oates and Train
DESCRIPTION:Multi-platinum and award-winning artists Daryl Hall & John Oates and Train have announced their momentous co-headling tour with the Van Andel Arena as one of their stops. This marks the first time legendary duo Daryl Hall & John Oates will tour together with fellow award winning hitmakers\, Train. Fans can expect full sets from both Daryl Hall & John Oates and Train\, followed by a showstopping joint set. Daryl Hall & John Oates are the NUMBER-ONE SELLING DUO in music history\, according to the R.I.A.A. The duo from Philadelphia has scored six #1 singles\, including "Rich Girl" (also #1 R&B)\, "Kiss on My List\," "Private Eyes\," "I Can't Go For That (No Can Do)" (also #1 R&B)\, "Maneater" and "Out of Touch" from their six consecutive multi-platinum albums '76's Bigger Than Both of Us\, '80's Voices\, '81's Private Eyes\, '82's H2O\, '83's Rock N Soul\, Part I and '84's Big Bam Boom. Tickets may be purchased at the Van Andel Arena  and DeVos Place  convention center box offices\, charge by pbone: 1.800.745.3000 or on-line at Ticketmaster.com. Ticket prices are subject to change.
X-ALT-DESC;FMTTYPE=text/html:Multi-platinum and award-winning artists Daryl Hall &amp\; John Oates and Train have announced their momentous co-headling tour with the Van Andel Arena as one of their stops. This marks the first time legendary duo Daryl Hall &amp\; John Oates will tour together with fellow award winning hitmakers\, Train. Fans can expect full sets from both Daryl Hall &amp\; John Oates and Train\, followed by a showstopping joint set. Daryl Hall &amp\; John Oates are the NUMBER-ONE SELLING DUO in music history\, according to the R.I.A.A. The duo from Philadelphia has scored six #1 singles\, including &ldquo\;Rich Girl&rdquo\; (also #1 R&amp\;B)\, &ldquo\;Kiss on My List\,&rdquo\; &ldquo\;Private Eyes\,&rdquo\; &ldquo\;I Can&rsquo\;t Go For That (No Can Do)&quot\; (also #1 R&amp\;B)\, &ldquo\;Maneater&rdquo\; and &ldquo\;Out of Touch&rdquo\; from their six consecutive multi-platinum albums&mdash\;&rsquo\;76&rsquo\;s Bigger Than Both of Us\, &rsquo\;80&rsquo\;s Voices\, &rsquo\;81&rsquo\;s Private Eyes\, &lsquo\;82&rsquo\;s H2O\, &lsquo\;83&rsquo\;s Rock N Soul\, Part I and &lsquo\;84&rsquo\;s Big Bam Boom. Tickets may be purchased at the Van Andel Arena&reg\; and DeVos Place&reg\; convention center box offices\, charge by pbone: 1.800.745.3000 or on-line at Ticketmaster.com. Ticket prices are subject to change.
LOCATION:Van Andel Arena
UID:e.2018.749
SEQUENCE:3
DTSTAMP:20260422T160008Z
URL:https://members.westmihcc.org/events/details/daryl-hall-john-oates-and-train-749
END:VEVENT

END:VCALENDAR
