BEGIN:VCALENDAR
VERSION:2.0
PRODID:-//ChamberMaster//Event Calendar 2.0//EN
METHOD:PUBLISH
X-PUBLISHED-TTL:P3D
REFRESH-INTERVAL:P3D
CALSCALE:GREGORIAN
BEGIN:VEVENT
DTSTART:20180809T000000Z
DTEND:20180809T030000Z
X-MICROSOFT-CDO-ALLDAYEVENT:FALSE
SUMMARY:David Byrne- American Utopia World Tour
DESCRIPTION:David will perform songs from the new album\, which is out March 9 via Todomundo/Nonesuch Records\, as well as classics from his solo career and his days with Talking Heads. A twelve-piece band will also join David on stage for a choreographed concert that he has called "the most ambitious show I've done since the shows that were filmed for Stop Making Sense."
X-ALT-DESC;FMTTYPE=text/html:David will perform songs from the new album\, which is out March 9 via Todomundo/Nonesuch Records\, as well as classics from his solo career and his days with Talking Heads. A twelve-piece band will also join David on stage for a choreographed concert that he has called &ldquo\;the most ambitious show I&rsquo\;ve done since the shows that were filmed for Stop Making Sense.&rdquo\;
LOCATION:DeVos Performance Hall
UID:e.2018.745
SEQUENCE:3
DTSTAMP:20260422T145104Z
URL:https://members.westmihcc.org/events/details/david-byrne-american-utopia-world-tour-745
END:VEVENT

END:VCALENDAR
