BEGIN:VCALENDAR
VERSION:2.0
PRODID:-//ChamberMaster//Event Calendar 2.0//EN
METHOD:PUBLISH
X-PUBLISHED-TTL:P3D
REFRESH-INTERVAL:P3D
CALSCALE:GREGORIAN
BEGIN:VEVENT
DTSTART:20170307T160000Z
DTEND:20170307T170000Z
X-MICROSOFT-CDO-ALLDAYEVENT:FALSE
SUMMARY:Define and Reach Your Target Market
DESCRIPTION:Are you struggling to reach your audience? Learn how to define exactly who you are trying to reach with the offerings of your business and how to find ways to put yourself in front of those target markets effectively\, efficiently\, and within budget. This webinar is designed for people who are looking to build their audience and customer-base for more sales. No cost. To register\, please go to https://clients.sbdcmichigan.org/workshop.aspx?ekey=1370003 or call our office at 616-331-7370.
X-ALT-DESC;FMTTYPE=text/html:Are you struggling to reach your audience? Learn how to define exactly who you are trying to reach with the offerings of your business and how to find ways to put yourself in front of those target markets effectively\, efficiently\, and within budget. This webinar is designed for people who are looking to build their audience and customer-base for more sales. No cost. To register\, please go to https://clients.sbdcmichigan.org/workshop.aspx?ekey=1370003 or call our office at 616-331-7370.
LOCATION:Online (webinar)
UID:e.2018.544
SEQUENCE:3
DTSTAMP:20260425T144104Z
URL:https://members.westmihcc.org/events/details/define-and-reach-your-target-market-544
END:VEVENT

END:VCALENDAR
