BEGIN:VCALENDAR
VERSION:2.0
PRODID:-//ChamberMaster//Event Calendar 2.0//EN
METHOD:PUBLISH
X-PUBLISHED-TTL:P3D
REFRESH-INTERVAL:P3D
CALSCALE:GREGORIAN
BEGIN:VEVENT
DTSTART:20190507T233000Z
DTEND:20190508T013000Z
X-MICROSOFT-CDO-ALLDAYEVENT:FALSE
SUMMARY:Derek Hough: LIVE The Tour
DESCRIPTION:Dancing With The Stars 6 time Mirror Ball Champion\, Derek Hough brings LIVE: The Tour to DeVos Performance Hall on Tuesday\, May 7\, 2019 at 7:30 PM. From the EMMY  award winning mind of Derek Hough\, the live dance show is the first-ever solo tour for the dynamo. The show features brand-new stage production\, astounding versatility and\, as always\, Derek's magnetic stage presence. Fans will journey through a true fusion of dance and music\, as Derek explores styles ranging from ballroom and tap to salsa and hop-hop and everything in between. Creative team and two-time EMMY  winners\, Napoleon and Tabitha Dumo\, also known as NappyTabs (Jennifer Lopez: All I Have Residency\; Michael Jackson: The Immortal World Tour\; GRAMMYs  creative direction)\, will co-create\, direct and supervise choreography for the tour.
X-ALT-DESC;FMTTYPE=text/html:Dancing With The Stars 6 time Mirror Ball Champion\, Derek Hough brings LIVE: The Tour to DeVos Performance Hall on Tuesday\, May 7\, 2019 at 7:30 PM. From the EMMY&reg\; award winning mind of Derek Hough\, the live dance show is the first-ever solo tour for the dynamo. The show features brand-new stage production\, astounding versatility and\, as always\, Derek&rsquo\;s magnetic stage presence. Fans will journey through a true fusion of dance and music\, as Derek explores styles ranging from ballroom and tap to salsa and hop-hop and everything in between. Creative team and two-time EMMY&reg\; winners\, Napoleon and Tabitha Dumo\, also known as NappyTabs (Jennifer Lopez: All I Have Residency\; Michael Jackson: The Immortal World Tour\; GRAMMYs&reg\; creative direction)\, will co-create\, direct and supervise choreography for the tour.
LOCATION:DeVos Performance Hall
UID:e.2018.859
SEQUENCE:3
DTSTAMP:20260420T050156Z
URL:https://members.westmihcc.org/events/details/derek-hough-live-the-tour-859
END:VEVENT

END:VCALENDAR
