BEGIN:VCALENDAR
VERSION:2.0
PRODID:-//ChamberMaster//Event Calendar 2.0//EN
METHOD:PUBLISH
X-PUBLISHED-TTL:P3D
REFRESH-INTERVAL:P3D
CALSCALE:GREGORIAN
BEGIN:VEVENT
DTSTART:20190404T233000Z
DTEND:20190405T013000Z
X-MICROSOFT-CDO-ALLDAYEVENT:FALSE
SUMMARY:Diana Krall
DESCRIPTION:Canadian jazz pianist and singer\, Diana Krall\, brings her Turn Up The Quiet Tour to DeVos Performance Hall on rescheduled date Thursday\, April 4th\, 2019 at 7:30PM. All tickets for the original October 17th date will be honored at the rescheduled date. Diana Krall is the only jazz singer to have eight albums debut at the top of the Billboard Jazz Albums chart. To date\, her albums have garnered five Grammy  Awards\, ten Juno  Awards and have also earned nine gold\, three platinum and seven multi-platinum albums. Krall's unique artistry transcends any single musical style and has made her one of the most recognizable artists of our time.
X-ALT-DESC;FMTTYPE=text/html:Canadian jazz pianist and singer\, Diana Krall\, brings her Turn Up The Quiet Tour to DeVos Performance Hall on rescheduled date Thursday\, April 4th\, 2019 at 7:30PM. All tickets for the original October 17th date will be honored at the rescheduled date. Diana Krall is the only jazz singer to have eight albums debut at the top of the Billboard Jazz Albums chart. To date\, her albums have garnered five Grammy&reg\; Awards\, ten Juno&reg\; Awards and have also earned nine gold\, three platinum and seven multi-platinum albums. Krall&#39\;s unique artistry transcends any single musical style and has made her one of the most recognizable artists of our time.
LOCATION:DeVos Performance Hall
UID:e.2018.985
SEQUENCE:3
DTSTAMP:20260420T050033Z
URL:https://members.westmihcc.org/events/details/diana-krall-04-04-2019-985
END:VEVENT

END:VCALENDAR
