BEGIN:VCALENDAR
VERSION:2.0
PRODID:-//ChamberMaster//Event Calendar 2.0//EN
METHOD:PUBLISH
X-PUBLISHED-TTL:P3D
REFRESH-INTERVAL:P3D
CALSCALE:GREGORIAN
BEGIN:VEVENT
DTSTART:20181017T233000Z
DTEND:20181018T013000Z
X-MICROSOFT-CDO-ALLDAYEVENT:FALSE
SUMMARY:Diana Krall
DESCRIPTION:Canadian jazz pianist and singer\, Diana Krall\, brings her Turn Up The Quiet Tour to DeVos Performance Hall on Wednesday\, October 17th at 7:30 PM.
X-ALT-DESC;FMTTYPE=text/html:Canadian jazz pianist and singer\, Diana Krall\, brings her Turn Up The Quiet Tour to DeVos Performance Hall on Wednesday\, October 17th at 7:30 PM.
LOCATION:DeVos Performance Hall
UID:e.2018.857
SEQUENCE:3
DTSTAMP:20260422T122202Z
URL:https://members.westmihcc.org/events/details/diana-krall-857
END:VEVENT

END:VCALENDAR
