BEGIN:VCALENDAR
VERSION:2.0
PRODID:-//ChamberMaster//Event Calendar 2.0//EN
METHOD:PUBLISH
X-PUBLISHED-TTL:P3D
REFRESH-INTERVAL:P3D
CALSCALE:GREGORIAN
BEGIN:VEVENT
DTSTART:20191016T150000Z
DTEND:20191016T170000Z
X-MICROSOFT-CDO-ALLDAYEVENT:FALSE
SUMMARY:Discover SBA’s Loan Guaranty Programs for Small Businesses: 7(a) & 504
DESCRIPTION:SBA provides a number of loan programs to help businesses start or grow. SBA representatives will be presenting the features of their flagship 7(a) Loan Guaranty Program and Certified Development Company 504 Loan Program. These programs provide funding for working capital\, machinery & equipment\, furniture & fixtures\, land & building\, leasehold improvements\, and debt refinancing with flexible terms. To register\, click on this link: https://clients.sbdcmichigan.org/workshop.aspx?ekey=70390141. No cost.
X-ALT-DESC;FMTTYPE=text/html:SBA provides a number of loan programs to help businesses start or grow. SBA representatives will be presenting the features of their flagship 7(a) Loan Guaranty Program and Certified Development Company 504 Loan Program. These programs provide funding for working capital\, machinery &amp\; equipment\, furniture &amp\; fixtures\, land &amp\; building\, leasehold improvements\, and debt refinancing with flexible terms. To register\, click on this link: https://clients.sbdcmichigan.org/workshop.aspx?ekey=70390141. No cost.
LOCATION:Montcalm Community College Stanley and Blanche Ash Technology and Learning Center 1325 Yellow Jacket Drive Greenville\, MI 48838
UID:e.2018.1317
SEQUENCE:3
DTSTAMP:20260419T212816Z
URL:https://members.westmihcc.org/events/details/discover-sba-s-loan-guaranty-programs-for-small-businesses-7-a-504-10-16-2019-1317
END:VEVENT

END:VCALENDAR
