BEGIN:VCALENDAR
VERSION:2.0
PRODID:-//ChamberMaster//Event Calendar 2.0//EN
METHOD:PUBLISH
X-PUBLISHED-TTL:P3D
REFRESH-INTERVAL:P3D
CALSCALE:GREGORIAN
BEGIN:VEVENT
DTSTART:20181107T230000Z
DTEND:20181108T010000Z
X-MICROSOFT-CDO-ALLDAYEVENT:FALSE
SUMMARY:Disney Junior Dance Party
DESCRIPTION:Disney Junior Dance Party On Tour presented by Pull-Ups is extending its high-energy interactive tour\, taking the immersive live concert experience designed for kids and families into some of the biggest markets in the US with a stop at DeVos Performance Hall on Wednesday\, November 7th at 6:00PM. Incorporating live appearances by favorite Disney Junior characters Mickey Mouse\, Minnie Mouse\, Goofy\, Elena of Avalor\, Sofia the First\, Doc McStuffins\, interactive on-screen moments with Puppy Dog Pals\, The Lion Guard and Muppet Babies\, as well as the first-ever live appearance by Vampirina\, "Disney Junior Dance Party On Tour" features 20 songs from Disney Junior's hit series\, as well as two brand new original songs for the tour. The concert is elevated by state of the art LED technology\, a giant Mickey-shaped DJ booth\, high-tech scrim screens that transport characters into the theatre and 4D special effects.
X-ALT-DESC;FMTTYPE=text/html:Disney Junior Dance Party On Tour presented by Pull-Ups is extending its high-energy interactive tour\, taking the immersive live concert experience designed for kids and families into some of the biggest markets in the US with a stop at DeVos Performance Hall on Wednesday\, November 7th at 6:00PM. Incorporating live appearances by favorite Disney Junior characters Mickey Mouse\, Minnie Mouse\, Goofy\, Elena of Avalor\, Sofia the First\, Doc McStuffins\, interactive on-screen moments with Puppy Dog Pals\, The Lion Guard and Muppet Babies\, as well as the first-ever live appearance by Vampirina\, &quot\;Disney Junior Dance Party On Tour&quot\; features 20 songs from Disney Junior&#39\;s hit series\, as well as two brand new original songs for the tour. The concert is elevated by state of the art LED technology\, a giant Mickey-shaped DJ booth\, high-tech scrim screens that transport characters into the theatre and 4D special effects.
LOCATION:DeVos Performance Hall
UID:e.2018.831
SEQUENCE:3
DTSTAMP:20260422T110554Z
URL:https://members.westmihcc.org/events/details/disney-junior-dance-party-831
END:VEVENT

END:VCALENDAR
