BEGIN:VCALENDAR
VERSION:2.0
PRODID:-//ChamberMaster//Event Calendar 2.0//EN
METHOD:PUBLISH
X-PUBLISHED-TTL:P3D
REFRESH-INTERVAL:P3D
CALSCALE:GREGORIAN
BEGIN:VEVENT
DTSTART:20190301T000000Z
DTEND:20190304T020000Z
X-MICROSOFT-CDO-ALLDAYEVENT:FALSE
SUMMARY:Disney on Ice: Frozen
DESCRIPTION:Discover the full story of Disney's Frozen like never before at Disney On Ice presents Frozen live at Van Andel Arena with eight performances February 28th through March 3\, 2019. Dazzling ice skating\, special effects and unforgettable music will magically transport you to wintery Arendelle. Be a part of Anna's fearless adventure to find her sister\, Queen Elsa\, whose icy powers have trapped the kingdom in an eternal winter. Join the hilarious snowman Olaf\, rugged mountain man Kristoff and his loyal reindeer sidekick Sven as they help Anna in a race to bring back summer. Encounter Everst-like conditions and mystical trolls as you sing along to Acadamy Award-winning songs like Let it Go and ultimately discover true love is the most powerful magic of all. Hosted by Mickey Mouse and Minnie Mouse\, your whole family will delight in special appearances by stars from Toy Story\, Finding Dory\, The Lion King and the inspiring Disney Princesses. Experience magic at every turn and create memories to last a lifetime at Disney On Ice presents Frozen - the show worth melting for!
X-ALT-DESC;FMTTYPE=text/html:Discover the full story of Disney&#39\;s Frozen like never before at Disney On Ice presents Frozen live at Van Andel Arena with eight performances February 28th through March 3\, 2019. Dazzling ice skating\, special effects and unforgettable music will magically transport you to wintery Arendelle. Be a part of Anna&#39\;s fearless adventure to find her sister\, Queen Elsa\, whose icy powers have trapped the kingdom in an eternal winter. Join the hilarious snowman Olaf\, rugged mountain man Kristoff and his loyal reindeer sidekick Sven as they help Anna in a race to bring back summer. Encounter Everst-like conditions and mystical trolls as you sing along to Acadamy Award-winning songs like Let it Go and ultimately discover true love is the most powerful magic of all. Hosted by Mickey Mouse and Minnie Mouse\, your whole family will delight in special appearances by stars from Toy Story\, Finding Dory\, The Lion King and the inspiring Disney Princesses. Experience magic at every turn and create memories to last a lifetime at Disney On Ice presents Frozen - the show worth melting for!
LOCATION:Van Andel Arena
UID:e.2018.986
SEQUENCE:3
DTSTAMP:20260420T062503Z
URL:https://members.westmihcc.org/events/details/disney-on-ice-frozen-986
END:VEVENT

END:VCALENDAR
