BEGIN:VCALENDAR
VERSION:2.0
PRODID:-//ChamberMaster//Event Calendar 2.0//EN
METHOD:PUBLISH
X-PUBLISHED-TTL:P3D
REFRESH-INTERVAL:P3D
CALSCALE:GREGORIAN
BEGIN:VEVENT
DTSTART:20190308T003000Z
DTEND:20190308T033000Z
X-MICROSOFT-CDO-ALLDAYEVENT:FALSE
SUMMARY:Disturbed Evolution World Tour
DESCRIPTION:Two-time Grammy nominees DISTURBED have announced the Evolution World Tour\, an extensive international arena tour that kicks off January 9 in San Diego\, CA\, and will see the multi-platinum-selling rock band headlining SMG-managed Van Andel Arena on Thursday\, March 7\, 2019 at 7:30 PM with Three Days Grace. Tickets go on sale to the general public beginning Friday\, October 26 at 10:00 AM. Tickets will be available at the Van Andel Arena and DeVos Place box offices\, online at Ticketmaster.com\, and charge by phone at 1-800-745-3000. See Ticketmaster.com for all pricing and availability. A purchase limit of eight (8) tickets will apply to every order. Disturbed (vocalist David Draiman\, guitarist Dan Donegan\, drummer Mike Wengren and bassist John Moyer) is touring in support of much-buzzed-about new album Evolution which arrives tomorrow(!) and lead single "Are You Ready\," which hit No. 1 on Billboard's Hot Mainstream Rock Tracks Chart and has maintained that position for 4 consecutive weeks. The song\, which is the band's 12th No. 1 single and the fastest chart-climber of their career\, has over 5 million Spotify streams and a companion video with more than 5 million YouTube views
X-ALT-DESC;FMTTYPE=text/html:Two-time Grammy nominees DISTURBED have announced the Evolution World Tour\, an extensive international arena tour that kicks off January 9 in San Diego\, CA\, and will see the multi-platinum-selling rock band headlining SMG-managed Van Andel Arena on Thursday\, March 7\, 2019 at 7:30 PM with Three Days Grace. Tickets go on sale to the general public beginning Friday\, October 26 at 10:00 AM. Tickets will be available at the Van Andel Arena and DeVos Place box offices\, online at Ticketmaster.com\, and charge by phone at 1-800-745-3000. See Ticketmaster.com for all pricing and availability. A purchase limit of eight (8) tickets will apply to every order. Disturbed (vocalist David Draiman\, guitarist Dan Donegan\, drummer Mike Wengren and bassist John Moyer) is touring in support of much-buzzed-about new album Evolution&mdash\;which arrives tomorrow(!)&mdash\;and lead single &ldquo\;Are You Ready\,&rdquo\; which hit No. 1 on Billboard&rsquo\;s Hot Mainstream Rock Tracks Chart and has maintained that position for 4 consecutive weeks. The song\, which is the band&rsquo\;s 12th No. 1 single and the fastest chart-climber of their career\, has over 5 million Spotify streams and a companion video with more than 5 million YouTube views
LOCATION:Van Andel Arena
UID:e.2018.984
SEQUENCE:3
DTSTAMP:20260420T062326Z
URL:https://members.westmihcc.org/events/details/disturbed-evolution-world-tour-984
END:VEVENT

END:VCALENDAR
