BEGIN:VCALENDAR
VERSION:2.0
PRODID:-//ChamberMaster//Event Calendar 2.0//EN
METHOD:PUBLISH
X-PUBLISHED-TTL:P3D
REFRESH-INTERVAL:P3D
CALSCALE:GREGORIAN
BEGIN:VEVENT
DTSTART:20160524T230000Z
DTEND:20160525T013000Z
X-MICROSOFT-CDO-ALLDAYEVENT:FALSE
SUMMARY:Disturbed & Rob Zombie Concert
DESCRIPTION:Rock titans Disturbed and Rob Zombie have announced a co-headline tour for May 2016. Produced by Live Nation\, the tour will kick off on May 3\, 2016 at Mississippi Coast Coliseum in Biloxi\, Miss.\, and will visit cities across the U.S. including Grand Rapids at Van Andel Arena on Tuesday\, May 24\, 2016 at 7:00 PM. Pop Evil will be the supporting artist. Tickets go on sale Friday\, January 22 at 10:00 AM. Ticket prices are $29.95\, $39.95\, and $49.95 and will be available at the Van Andel Arena and DeVos Place  box offices\, all Ticketmaster outlets\, online at Ticketmaster.com\, and by phone at 1-800-745-3000. A purchase limit of eight (8) tickets will apply to each order and prices are subject to change.
X-ALT-DESC;FMTTYPE=text/html:Rock titans Disturbed and Rob Zombie have announced a co-headline tour for May 2016. Produced by Live Nation\, the tour will kick off on May 3\, 2016 at Mississippi Coast Coliseum in Biloxi\, Miss.\, and will visit cities across the U.S. including Grand Rapids at Van Andel Arena on Tuesday\, May 24\, 2016 at 7:00 PM. Pop Evil will be the supporting artist. Tickets go on sale Friday\, January 22 at 10:00 AM. Ticket prices are $29.95\, $39.95\, and $49.95 and will be available at the Van Andel Arena and DeVos Place&reg\; box offices\, all Ticketmaster outlets\, online at Ticketmaster.com\, and by phone at 1-800-745-3000. A purchase limit of eight (8) tickets will apply to each order and prices are subject to change.
LOCATION:Van Andel Area
UID:e.2018.349
SEQUENCE:3
DTSTAMP:20260426T035325Z
URL:https://members.westmihcc.org/events/details/disturbed-rob-zombie-concert-05-24-2016-349
END:VEVENT

END:VCALENDAR
