BEGIN:VCALENDAR
VERSION:2.0
PRODID:-//ChamberMaster//Event Calendar 2.0//EN
METHOD:PUBLISH
X-PUBLISHED-TTL:P3D
REFRESH-INTERVAL:P3D
CALSCALE:GREGORIAN
BEGIN:VEVENT
DTSTART:20160806T233000Z
DTEND:20160807T020000Z
X-MICROSOFT-CDO-ALLDAYEVENT:FALSE
SUMMARY:Dolly Parton
DESCRIPTION:Country music icon Dolly Parton has announced summer 2016 tour dates\, including a Saturday\, August 6\, 2016 at 7:30 PM stop in Grand Rapids at Van Andel Arena. An internationally renowned superstar\, the iconic and irrepressible Dolly Parton has contributed countless treasures to the world of entertainment. All-inclusive sales of singles\, albums\, hits collections\, paid digital downloads and compilation usage during her illustrious career have topped a staggering 100 million records worldwide. Achieving 25 RIAA certified gold\, platinum and multi-platinum awards\, Dolly has had 25 songs reach No. 1 on the Billboard Country charts\, a record for a female artist. Ticket prices are $55\, $75\, and $125. Tickets go on sale Friday\, May 20 at 10:00 AM. Tickets will be available at the Van Andel Arena and DeVos Place  box offices\, all Ticketmaster outlets\, online at Ticketmaster.com\, and by phone at 1-800-745-3000. A purchase limit of eight (8) tickets will apply to each order and prices are subject to change. VIP packages are available on Ticketmaster.com.
X-ALT-DESC;FMTTYPE=text/html:Country music icon Dolly Parton has announced summer 2016 tour dates\, including a Saturday\, August 6\, 2016 at 7:30 PM stop in Grand Rapids at Van Andel Arena. An internationally renowned superstar\, the iconic and irrepressible Dolly Parton has contributed countless treasures to the world of entertainment. All-inclusive sales of singles\, albums\, hits collections\, paid digital downloads and compilation usage during her illustrious career have topped a staggering 100 million records worldwide. Achieving 25 RIAA certified gold\, platinum and multi-platinum awards\, Dolly has had 25 songs reach No. 1 on the Billboard Country charts\, a record for a female artist. Ticket prices are $55\, $75\, and $125. Tickets go on sale Friday\, May 20 at 10:00 AM. Tickets will be available at the Van Andel Arena and DeVos Place&reg\; box offices\, all Ticketmaster outlets\, online at Ticketmaster.com\, and by phone at 1-800-745-3000. A purchase limit of eight (8) tickets will apply to each order and prices are subject to change. VIP packages are available on Ticketmaster.com.
LOCATION:Van Andel Arena 130 West Fulton Grand Rapids\, MI 49503
UID:e.2018.389
SEQUENCE:3
DTSTAMP:20260425T235622Z
URL:https://members.westmihcc.org/events/details/dolly-parton-08-06-2016-389
END:VEVENT

END:VCALENDAR
