BEGIN:VCALENDAR
VERSION:2.0
PRODID:-//ChamberMaster//Event Calendar 2.0//EN
METHOD:PUBLISH
X-PUBLISHED-TTL:P3D
REFRESH-INTERVAL:P3D
CALSCALE:GREGORIAN
BEGIN:VEVENT
DTSTART:20200125T010000Z
DTEND:20200125T040000Z
X-MICROSOFT-CDO-ALLDAYEVENT:FALSE
SUMMARY:Double Bill: The Music of Louis Armstrong & Camila Meza Quartet + DSO String Quartet
DESCRIPTION:Louis Armstrong and his Orchestra was the first act to ever grace the stage of the Paradise Theatre on December 26\, 1941. Bassist Rodney Whitaker\, who performed on the inaugural Paradise Jazz Series concert in 1999\, leads a top-notch ensemble to pay homage to Satchmo! Whitaker will be joined by trumpeter Marcus Printup\, pianist Eric Reed\, drummer Herlin Riley\, saxophonist Victor Goines\, trombonist Vincent Gardner\, and vocalists Rockelle Fortin and Chris McDole. Also on this double bill: Chilean-born singer\, guitarist\, and composer Camila Meza and her band join forces with a DSO string quartet to perform Meza's original music.
X-ALT-DESC;FMTTYPE=text/html:Louis Armstrong and his Orchestra was the first act to ever grace the stage of the Paradise Theatre on December 26\, 1941. Bassist Rodney Whitaker\, who performed on the inaugural Paradise Jazz Series concert in 1999\, leads a top-notch ensemble to pay homage to Satchmo! Whitaker will be joined by trumpeter Marcus Printup\, pianist Eric Reed\, drummer Herlin Riley\, saxophonist Victor Goines\, trombonist Vincent Gardner\, and vocalists Rockelle Fortin and Chris McDole. Also on this double bill: Chilean-born singer\, guitarist\, and composer Camila Meza and her band join forces with a DSO string quartet to perform Meza&#39\;s original music.
LOCATION:Detroit Symphony Orchestra 3711 Woodward Avenue Detroit\, MI 48201
UID:e.2018.1368
SEQUENCE:3
DTSTAMP:20260419T154003Z
URL:https://members.westmihcc.org/events/details/double-bill-the-music-of-louis-armstrong-camila-meza-quartet-dso-string-quartet-1368
END:VEVENT

END:VCALENDAR
