BEGIN:VCALENDAR
VERSION:2.0
PRODID:-//ChamberMaster//Event Calendar 2.0//EN
METHOD:PUBLISH
X-PUBLISHED-TTL:P3D
REFRESH-INTERVAL:P3D
CALSCALE:GREGORIAN
BEGIN:VEVENT
DTSTART:20161025T000000Z
DTEND:20161025T020000Z
X-MICROSOFT-CDO-ALLDAYEVENT:FALSE
SUMMARY:Dream Theater
DESCRIPTION:Dream Theater is set to perform live in Grand Rapids at DeVos Performance Hall on Monday\, October 24\, 2016 at 8:00 PM. The pioneering group will be performing their widely acclaimed double concept album The Astonishing in immersive and interactive settings for a unique and unparalleled live experience. Tickets will go on sale beginning Friday\, August 26 at 10:00 AM. Ticket prices are $35\, $45\, and $65 and will be available at the DeVos Place and Van Andel Arena box offices\, online at Ticketmaster.com\, and charge by phone at 1-800-745-3000. Prices are subject to change. Fan Club/VIP Packages are available via Songkick.
X-ALT-DESC;FMTTYPE=text/html:Dream Theater is set to perform live in Grand Rapids at DeVos Performance Hall on Monday\, October 24\, 2016 at 8:00 PM. The pioneering group will be performing their widely acclaimed double concept album The Astonishing in immersive and interactive settings for a unique and unparalleled live experience. Tickets will go on sale beginning Friday\, August 26 at 10:00 AM. Ticket prices are $35\, $45\, and $65 and will be available at the DeVos Place and Van Andel Arena box offices\, online at Ticketmaster.com\, and charge by phone at 1-800-745-3000. Prices are subject to change. Fan Club/VIP Packages are available via Songkick.
LOCATION:DeVos Performance Hall
UID:e.2018.482
SEQUENCE:3
DTSTAMP:20260425T212438Z
URL:https://members.westmihcc.org/events/details/dream-theater-482
END:VEVENT

END:VCALENDAR
