BEGIN:VCALENDAR
VERSION:2.0
PRODID:-//ChamberMaster//Event Calendar 2.0//EN
METHOD:PUBLISH
X-PUBLISHED-TTL:P3D
REFRESH-INTERVAL:P3D
CALSCALE:GREGORIAN
BEGIN:VEVENT
DTSTART:20190725T230000Z
DTEND:20190726T020000Z
X-MICROSOFT-CDO-ALLDAYEVENT:FALSE
SUMMARY:Dude Perfect- The Pound It Noggin Tour
DESCRIPTION:Thursday\, July 25\, 2019 Doors 6PM\, Show 7PM
X-ALT-DESC;FMTTYPE=text/html:Thursday\, July 25\, 2019 Doors 6PM\, Show 7PM
LOCATION:The DeltaPlex Arena
UID:e.2018.1202
SEQUENCE:3
DTSTAMP:20260420T020053Z
URL:https://members.westmihcc.org/events/details/dude-perfect-the-pound-it-noggin-tour-1202
END:VEVENT

END:VCALENDAR
