BEGIN:VCALENDAR
VERSION:2.0
PRODID:-//ChamberMaster//Event Calendar 2.0//EN
METHOD:PUBLISH
X-PUBLISHED-TTL:P3D
REFRESH-INTERVAL:P3D
CALSCALE:GREGORIAN
BEGIN:VEVENT
DTSTART:20170629T153000Z
DTEND:20170629T230000Z
X-MICROSOFT-CDO-ALLDAYEVENT:FALSE
SUMMARY:EL TORNEO 2017
DESCRIPTION:With the golf season here\, we are pleased to announce sponsorship opportunities are available and registration is now open for the West Michigan Hispanic Chamber of Commerce El Torneo 2016. Companies\, businesses or individuals are invited to sponsor segments of the event in exchange for great exposure through the event and to participate in the activities with a golf foursome! \n\n  \n\nEvery year\, this event attracts a wide variety of Latino and non-Latino business owners and leaders from West Michigan. El Torneo is a great opportunity to treat your employees\, preferred customers and/or clients to a day of fun while increasing your business network and connecting to the business community. Don't miss out!
X-ALT-DESC;FMTTYPE=text/html:<span style="color:#000000\;"><span style="font-size:12px\;"><span style="font-family:verdana\;"><font style="color: rgb(34\, 34\, 34)\; line-height: normal\;">With the golf season here\, we are pleased to announce sponsorship opportunities are available and registration is now open for the West Michigan Hispanic Chamber of Commerce El Torneo 2016. Companies\, businesses or individuals are invited to sponsor segments of the event in exchange for great exposure through the event and to participate in the activities with a golf foursome!</font><span style="line-height: normal\;">&nbsp\;</span><br style="color: rgb(34\, 34\, 34)\; font-family: arial\, sans-serif\; font-size: 12.8px\; line-height: normal\;" />\n<font style="color: rgb(34\, 34\, 34)\; line-height: normal\;">&nbsp\;</font><span style="line-height: normal\;">&nbsp\;</span><br style="color: rgb(34\, 34\, 34)\; font-family: arial\, sans-serif\; font-size: 12.8px\; line-height: normal\;" />\n<font style="color: rgb(34\, 34\, 34)\; line-height: normal\;">Every year\, this event attracts a wide variety of Latino and non-Latino business owners and leaders from West Michigan. El Torneo is a great opportunity to treat your employees\, preferred customers and/or clients to a day of fun while increasing your business network and connecting to the business community. Don&#39\;t miss out!&nbsp\;</font></span></span></span>
LOCATION:Thornapple Pointe 7211 48th St. SE\, Grand Rapids\, MI 49512
UID:e.2018.373
SEQUENCE:3
DTSTAMP:20260423T104912Z
URL:https://members.westmihcc.org/events/details/el-torneo-2017-373
END:VEVENT

END:VCALENDAR
