BEGIN:VCALENDAR
VERSION:2.0
PRODID:-//ChamberMaster//Event Calendar 2.0//EN
METHOD:PUBLISH
X-PUBLISHED-TTL:P3D
REFRESH-INTERVAL:P3D
CALSCALE:GREGORIAN
BEGIN:VEVENT
DTSTART:20190627T150000Z
DTEND:20190627T223000Z
X-MICROSOFT-CDO-ALLDAYEVENT:FALSE
SUMMARY:El Torneo Golf Outing 2019
DESCRIPTION:To promote a balance of hard work and fun in the workplace\, the West\n\nMichigan Hispanic Chamber of Commerce hosts an annual golf\n\nouting\, El Torneo. Companies\, businesses or individuals are invited to\n\nsponsor segments of the event in exchange for great exposure and\n\nparticipation in the activities with a golf foursome! Funds raised for\n\nand during this event allow us to continue our initiatives that promote\n\nthe economic advancement of Hispanic owned businesses.\n\n\n\nEvery year\, this event attracts a wide variety of Latino and non-Latino\n\nbusiness owners and leaders from West Michigan. El Torneo is a\n\ngreat opportunity to treat your employees\, preferred customers and/\n\nor clients to a day of fun while increasing your business network and\n\nconnecting to the business community. Don't miss out!
X-ALT-DESC;FMTTYPE=text/html:To promote a balance of hard work and fun in the workplace\, the West<br />\nMichigan Hispanic Chamber of Commerce hosts an annual golf<br />\nouting\, El Torneo. Companies\, businesses or individuals are invited to<br />\nsponsor segments of the event in exchange for great exposure and<br />\nparticipation in the activities with a golf foursome! Funds raised for<br />\nand during this event allow us to continue our initiatives that promote<br />\nthe economic advancement of Hispanic owned businesses.<br />\n<br />\nEvery year\, this event attracts a wide variety of Latino and non-Latino<br />\nbusiness owners and leaders from West Michigan. El Torneo is a<br />\ngreat opportunity to treat your employees\, preferred customers and/<br />\nor clients to a day of fun while increasing your business network and<br />\nconnecting to the business community. Don&rsquo\;t miss out!
LOCATION:Thornapple Point Golf Club 7211 48th St. SE | Grand Rapids\, MI 49512
UID:e.2018.1065
SEQUENCE:3
DTSTAMP:20260420T015613Z
URL:https://members.westmihcc.org/events/details/el-torneo-golf-outing-2019-1065
END:VEVENT

END:VCALENDAR
