BEGIN:VCALENDAR
VERSION:2.0
PRODID:-//ChamberMaster//Event Calendar 2.0//EN
METHOD:PUBLISH
X-PUBLISHED-TTL:P3D
REFRESH-INTERVAL:P3D
CALSCALE:GREGORIAN
BEGIN:VEVENT
DTSTART:20160617T123000Z
DTEND:20160617T160000Z
X-MICROSOFT-CDO-ALLDAYEVENT:FALSE
SUMMARY:Encore Entrepreneur Workshop: Starting a Business at 50+
DESCRIPTION:A half-day workshop for people looking to start or grow a small business.
X-ALT-DESC;FMTTYPE=text/html:A half-day workshop for people looking to start or grow a small business.
LOCATION:William Seidman Center - GVSU\, 50 Front SW\, Grand Rqapids
UID:e.2018.393
SEQUENCE:3
DTSTAMP:20260426T035527Z
URL:https://members.westmihcc.org/events/details/encore-entrepreneur-workshop-starting-a-business-at-50-06-17-2016-393
END:VEVENT

END:VCALENDAR
