BEGIN:VCALENDAR
VERSION:2.0
PRODID:-//ChamberMaster//Event Calendar 2.0//EN
METHOD:PUBLISH
X-PUBLISHED-TTL:P3D
REFRESH-INTERVAL:P3D
CALSCALE:GREGORIAN
BEGIN:VEVENT
DTSTART:20200310T160000Z
DTEND:20200310T170000Z
X-MICROSOFT-CDO-ALLDAYEVENT:FALSE
SUMMARY:Entrepreneur's Toolbox: Get Your Business Online with Google!
DESCRIPTION:Grab your lunch and come to a discussion about topics that are important to your small business. The Entrepreneur Toolbox events will equip you with the skills and knowledge you need to be a successful entrepreneur. (Bring your own lunch\, or purchase one from the onsite caf .) Learn about Google My Business\, a free tool for local businesses who want to connect with customers on Google Search and Maps. Get hands-on help creating or updating your business profile or a simple website. In this session we'll show you how to:   Create or claim your Business Profile on Google   Manage your business info across Google Search and Maps   Use Google My Business to connect with potential customers   Create a free website using the info from your Business Profile Speaker(s): Liz Hoffswell\, Certified Small Business Consultant Reasonable accommodations for persons with disabilities will be made\, if requested at least two weeks in advance. Please contact SBDC West Michigan at 616-331-7370 or email sbdc@gvsu.edu to make arrangements. The Michigan SBDC program is partially funded by the U.S. Small Business Administration. All MI-SBDC programs or co-sponsored programs are extended to the public on a nondiscriminatory basis. Fee: No Cost
X-ALT-DESC;FMTTYPE=text/html:Grab your lunch and come to a discussion about topics that are important to your small business. The Entrepreneur Toolbox events will equip you with the skills and knowledge you need to be a successful entrepreneur. (Bring your own lunch\, or purchase one from the onsite caf&eacute\;.) Learn about Google My Business\, a free tool for local businesses who want to connect with customers on Google Search and Maps. Get hands-on help creating or updating your business profile or a simple website. In this session we&rsquo\;ll show you how to: &bull\; Create or claim your Business Profile on Google &bull\; Manage your business info across Google Search and Maps &bull\; Use Google My Business to connect with potential customers &bull\; Create a free website using the info from your Business Profile Speaker(s): Liz Hoffswell\, Certified Small Business Consultant Reasonable accommodations for persons with disabilities will be made\, if requested at least two weeks in advance. Please contact SBDC West Michigan at 616-331-7370 or email sbdc@gvsu.edu to make arrangements. The Michigan SBDC program is partially funded by the U.S. Small Business Administration. All MI-SBDC programs or co-sponsored programs are extended to the public on a nondiscriminatory basis. Fee: No Cost
LOCATION:Center for Entrepreneurship & Innovation Suite 1127 Grand Valley State University 50 Front Ave SW Grand Rapids\, MI 49504
UID:e.2018.1489
SEQUENCE:3
DTSTAMP:20260419T123554Z
URL:https://members.westmihcc.org/events/details/entrepreneur-s-toolbox-get-your-business-online-with-google-1489
END:VEVENT

END:VCALENDAR
