BEGIN:VCALENDAR
VERSION:2.0
PRODID:-//ChamberMaster//Event Calendar 2.0//EN
METHOD:PUBLISH
X-PUBLISHED-TTL:P3D
REFRESH-INTERVAL:P3D
CALSCALE:GREGORIAN
BEGIN:VEVENT
DTSTART:20171006T130000Z
DTEND:20171006T170000Z
X-MICROSOFT-CDO-ALLDAYEVENT:FALSE
SUMMARY:Ernst & Young Connect Day at GROW
DESCRIPTION:When it comes to your business financials\, do you find yourself feeling overwhelmed? Join us for an opportunity to hear from Ernst & Young (EY) professionals. The day will begin with an educational panel discussion and Q & A from 9:00-11:00. Following the panel\, there will be an opportunity to meet one-on-one with an EY volunteer. During this time they can answer/consult in the following areas: general accounting and business\, financial projections\, and business strategy.
X-ALT-DESC;FMTTYPE=text/html:When it comes to your business financials\, do you find yourself feeling overwhelmed? Join us for an opportunity to hear from Ernst &amp\; Young (EY) professionals. The day will begin with an educational panel discussion and Q &amp\; A from 9:00-11:00. Following the panel\, there will be an opportunity to meet one-on-one with an EY volunteer. During this time they can answer/consult in the following areas: general accounting and business\, financial projections\, and business strategy.
LOCATION:
UID:e.2018.650
SEQUENCE:3
DTSTAMP:20260423T050946Z
URL:https://members.westmihcc.org/events/details/ernst-young-connect-day-at-grow-650
END:VEVENT

END:VCALENDAR
