BEGIN:VCALENDAR
VERSION:2.0
PRODID:-//ChamberMaster//Event Calendar 2.0//EN
METHOD:PUBLISH
X-PUBLISHED-TTL:P3D
REFRESH-INTERVAL:P3D
CALSCALE:GREGORIAN
BEGIN:VEVENT
DTSTART:20191004T123000Z
DTEND:20191004T163000Z
X-MICROSOFT-CDO-ALLDAYEVENT:FALSE
SUMMARY:Ernst & Young Connect Day with GROW
DESCRIPTION:When it comes to your business financials\, do you find yourself feeling overwhelmed? Join us for an opportunity to learn from Ernst Young (EY) professionals! The day will begin with an educational session\, breakout sessions\, and a Q A. During this time EY will cover the following areas: General Accounting Business Financial Projections Business Strategy Following the panel\, there will be an opportunity to meet one-on-one with an EY professional to consult with your business.
X-ALT-DESC;FMTTYPE=text/html:When it comes to your business financials\, do you find yourself feeling overwhelmed? Join us for an opportunity to learn from Ernst Young (EY) professionals! The day will begin with an educational session\, breakout sessions\, and a Q A. During this time EY will cover the following areas: General Accounting Business Financial Projections Business Strategy Following the panel\, there will be an opportunity to meet one-on-one with an EY professional to consult with your business.
LOCATION:Ernst & Young
UID:e.2018.1346
SEQUENCE:3
DTSTAMP:20260419T201040Z
URL:https://members.westmihcc.org/events/details/ernst-young-connect-day-with-grow-10-04-2019-1346
END:VEVENT

END:VCALENDAR
