BEGIN:VCALENDAR
VERSION:2.0
PRODID:-//ChamberMaster//Event Calendar 2.0//EN
METHOD:PUBLISH
X-PUBLISHED-TTL:P3D
REFRESH-INTERVAL:P3D
CALSCALE:GREGORIAN
BEGIN:VEVENT
DTSTART:20181005T123000Z
DTEND:20181005T163000Z
X-MICROSOFT-CDO-ALLDAYEVENT:FALSE
SUMMARY:Ernst & Young Connect Day with GROW
DESCRIPTION:When it comes to your business financials\, do you find yourself feeling overwhelmed? Join us for an opportunity to learn from Ernst & Young (EY) professionals! The day will begin with an educational session\, breakout sessions\, and a Q & A.
X-ALT-DESC;FMTTYPE=text/html:When it comes to your business financials\, do you find yourself feeling overwhelmed? Join us for an opportunity to learn from Ernst &amp\; Young (EY) professionals! The day will begin with an educational session\, breakout sessions\, and a Q &amp\; A.
LOCATION:Ernst & Young
UID:e.2018.943
SEQUENCE:3
DTSTAMP:20260422T122324Z
URL:https://members.westmihcc.org/events/details/ernst-young-connect-day-with-grow-943
END:VEVENT

END:VCALENDAR
