BEGIN:VCALENDAR
VERSION:2.0
PRODID:-//ChamberMaster//Event Calendar 2.0//EN
METHOD:PUBLISH
X-PUBLISHED-TTL:P3D
REFRESH-INTERVAL:P3D
CALSCALE:GREGORIAN
BEGIN:VEVENT
DTSTART:20180207T220000Z
DTEND:20180207T233000Z
X-MICROSOFT-CDO-ALLDAYEVENT:FALSE
SUMMARY:Established Division Programming
DESCRIPTION:This year\, we will begin the Established Division programming with a presentation from Zara Smith\, Strategic Programs Manager at GVSU. Zara will lead us through tools and techniques to establish market trends and analysis by leading industry experts\, the importance of financial benchmarking and labor comparisons and an overview of Web presence and activity perception\, i.e. Google Analytics. In addition\, she will also introduce us to a new analytical tool being launched. This 5:00 pm to 6:30 pm workshop will provide you with tools and tactics to measure your business utilizing the Web.
X-ALT-DESC;FMTTYPE=text/html:This year\, we will begin the Established Division programming with a presentation from Zara Smith\, Strategic Programs Manager at GVSU. Zara will lead us through tools and techniques to establish market trends and analysis by leading industry experts\, the importance of financial benchmarking and labor comparisons and an overview of Web presence and activity perception\, i.e. Google Analytics. In addition\, she will also introduce us to a new analytical tool being launched. This 5:00 pm to 6:30 pm workshop will provide you with tools and tactics to measure your business utilizing the Web.
LOCATION:SalesPad
UID:e.2018.786
SEQUENCE:3
DTSTAMP:20260422T225702Z
URL:https://members.westmihcc.org/events/details/established-division-programming-786
END:VEVENT

END:VCALENDAR
