BEGIN:VCALENDAR
VERSION:2.0
PRODID:-//ChamberMaster//Event Calendar 2.0//EN
METHOD:PUBLISH
X-PUBLISHED-TTL:P3D
REFRESH-INTERVAL:P3D
CALSCALE:GREGORIAN
BEGIN:VEVENT
DTSTART;VALUE=DATE:20170124
DTEND;VALUE=DATE:20170125
TRANSP:TRANSPARENT
X-MICROSOFT-CDO-ALLDAYEVENT:TRUE
SUMMARY:ESTRÉS e INMIGRACIÓN:
DESCRIPTION:Venga y aprenda como los problemas de inmigraci n pueden causar estr s en nuestras familias. Les ofreceremos informaci n sobre sus derechos y la documentaci n que necesita. Se proveer  cuidado de ni os\, cena y transportaci n. El evento ser  liderado por el abogado Michael Gardner\, la abogada Raquel Devereaux\, la trabajadora social Andrea Ybarra-Jones y la representante del Centro Hispano\, Olga Martinez. Ll menos al 616-855-5452 para reservar su lugar.
X-ALT-DESC;FMTTYPE=text/html:Venga y aprenda como los problemas de inmigraci&oacute\;n pueden causar estr&eacute\;s en nuestras familias. Les ofreceremos informaci&oacute\;n sobre sus derechos y la documentaci&oacute\;n que necesita. Se proveer&aacute\; cuidado de ni&ntilde\;os\, cena y transportaci&oacute\;n. El evento ser&aacute\; liderado por el abogado Michael Gardner\, la abogada Raquel Devereaux\, la trabajadora social Andrea Ybarra-Jones y la representante del Centro Hispano\, Olga Martinez. Ll&aacute\;menos al 616-855-5452 para reservar su lugar.&nbsp\;
LOCATION:Cook Library Center 1100 Grandville Ave SW\, Grand Rapids\, MI 49503
UID:e.2018.528
SEQUENCE:3
DTSTAMP:20260425T182934Z
URL:https://members.westmihcc.org/events/details/estr&#233;s-e-inmigraci&#243;n-528
END:VEVENT

END:VCALENDAR
