BEGIN:VCALENDAR
VERSION:2.0
PRODID:-//ChamberMaster//Event Calendar 2.0//EN
METHOD:PUBLISH
X-PUBLISHED-TTL:P3D
REFRESH-INTERVAL:P3D
CALSCALE:GREGORIAN
BEGIN:VEVENT
DTSTART:20190502T220000Z
DTEND:20190503T010000Z
X-MICROSOFT-CDO-ALLDAYEVENT:FALSE
SUMMARY:Experience Affinity: Better Together Benefit Dinner
DESCRIPTION:Meet our students\, mentors\, and community partners. You will experience Affinity and see we are Better Together. Enjoy craft drinks and delicious tapas from San Chez Bistro at tables hosted by mentors and mentees.\n\nNetworking + Happy Hour + Silent Auction will begin at 6pm\, followed by dinner and inspirational program.
X-ALT-DESC;FMTTYPE=text/html:<p>Meet our students\, mentors\, and community partners. You will experience Affinity and see we are&nbsp\;<em><strong>Better Together.</strong></em>&nbsp\;Enjoy craft drinks and delicious tapas from San Chez Bistro at tables hosted by mentors and mentees.</p>\n\n<p>Networking + Happy Hour + Silent Auction will begin at 6pm\, followed by dinner and inspirational program.</p>\n
LOCATION:Goei Center Kindel Room 818 Butterworth St SW Grand Rapids\, Michigan 49504
UID:e.2018.1146
SEQUENCE:3
DTSTAMP:20260420T032625Z
URL:https://members.westmihcc.org/events/details/experience-affinity-better-together-benefit-dinner-1146
END:VEVENT

END:VCALENDAR
