BEGIN:VCALENDAR
VERSION:2.0
PRODID:-//ChamberMaster//Event Calendar 2.0//EN
METHOD:PUBLISH
X-PUBLISHED-TTL:P3D
REFRESH-INTERVAL:P3D
CALSCALE:GREGORIAN
BEGIN:VEVENT
DTSTART:20190606T170000Z
DTEND:20190606T190000Z
X-MICROSOFT-CDO-ALLDAYEVENT:FALSE
SUMMARY:Explore Funding Resources for Small Businesses: SBA\, USDA\, and MEDC
DESCRIPTION:Whether start up or existing business\, finding the Southwest Michigan area resources available to help small businesses can be a huge challenge! Join us as we talk with the SBA\, USDA and the MEDC on an overview of resources available in our area along with what businesses need to prepare and plan for capital investment. No cost.
X-ALT-DESC;FMTTYPE=text/html:Whether start up or existing business\, finding the Southwest Michigan area resources available to help small businesses can be a huge challenge! Join us as we talk with the SBA\, USDA and the MEDC on an overview of resources available in our area along with what businesses need to prepare and plan for capital investment. No cost.
LOCATION:GVSU William L. Seidman Center - Forum B 50 Front Ave SW\, Grand Rapids\, MI 49504
UID:e.2018.1223
SEQUENCE:3
DTSTAMP:20260420T020214Z
URL:https://members.westmihcc.org/events/details/explore-funding-resources-for-small-businesses-sba-usda-and-medc-06-06-2019-1223
END:VEVENT

END:VCALENDAR
