BEGIN:VCALENDAR
VERSION:2.0
PRODID:-//ChamberMaster//Event Calendar 2.0//EN
METHOD:PUBLISH
X-PUBLISHED-TTL:P3D
REFRESH-INTERVAL:P3D
CALSCALE:GREGORIAN
BEGIN:VEVENT
DTSTART:20191106T160000Z
DTEND:20191106T180000Z
X-MICROSOFT-CDO-ALLDAYEVENT:FALSE
SUMMARY:Explore Funding Resources for Small Businesses: SBA\, USDA\, and MEDC
DESCRIPTION:Whether you are a start-up or an existing business\, finding the West Michigan area resources available to help small businesses can be a huge challenge! Join us as we talk with the SBA\, USDA and the MEDC on an overview of resources available in our area along with what businesses need to prepare and plan for capital investment. To register\, click on this link: https://clients.sbdcmichigan.org/workshop.aspx?ekey=70390181. No cost.
X-ALT-DESC;FMTTYPE=text/html:Whether you are a start-up or an existing business\, finding the West Michigan area resources available to help small businesses can be a huge challenge! Join us as we talk with the SBA\, USDA and the MEDC on an overview of resources available in our area along with what businesses need to prepare and plan for capital investment. To register\, click on this link: https://clients.sbdcmichigan.org/workshop.aspx?ekey=70390181. No cost.
LOCATION:Montcalm Community College Stanley and Blanche Ash Technology and Learning Center 1325 Yellow Jacket Drive Greenville\, MI 48838
UID:e.2018.1321
SEQUENCE:3
DTSTAMP:20260419T183135Z
URL:https://members.westmihcc.org/events/details/explore-funding-resources-for-small-businesses-sba-usda-and-medc-11-06-2019-1321
END:VEVENT

END:VCALENDAR
