BEGIN:VCALENDAR
VERSION:2.0
PRODID:-//ChamberMaster//Event Calendar 2.0//EN
METHOD:PUBLISH
X-PUBLISHED-TTL:P3D
REFRESH-INTERVAL:P3D
CALSCALE:GREGORIAN
BEGIN:VEVENT
DTSTART:20180501T170000Z
DTEND:20180501T180000Z
X-MICROSOFT-CDO-ALLDAYEVENT:FALSE
SUMMARY:Exploring Franchise Ownership – Is it Right For Me?
DESCRIPTION:Brigitte Betser\, Franchise Placement Specialist with FranNet\, will bust some common franchising myths\, and enlighten you on the wide-range of categories and investment levels available today. She'll also discuss the various entry strategies available in the world of franchising\, ranging from single unit owner/operator to semi-absentee investor to regional developer.
X-ALT-DESC;FMTTYPE=text/html:Brigitte Betser\, Franchise Placement Specialist with FranNet\, will bust some common franchising myths\, and enlighten you on the wide-range of categories and investment levels available today. She&rsquo\;ll also discuss the various entry strategies available in the world of franchising\, ranging from single unit owner/operator to semi-absentee investor to regional developer.
LOCATION:GVSU Bicycle Factory 201 Front Ave SW Grand Rapids\, MI 49504
UID:e.2018.806
SEQUENCE:3
DTSTAMP:20260422T200140Z
URL:https://members.westmihcc.org/events/details/exploring-franchise-ownership-is-it-right-for-me-806
END:VEVENT

END:VCALENDAR
